Workbook

Sheet ΕΠΙΛΟΓΕΣ 2026
A1: DAILY | B1: Column1 | C1: Column2 | D1: Column3 | E1: Column4 | F1: Column5 | G1: Column6 | H1: Column7 | I1: ΕΠΙΛΟΓΕΣ 2026 | J1: Column8 | K1: Column9 | L1: Column10 | M1: r | N1: Column11 | O1: Column12 | P1: Column13 | Q1: YΠΟΘΕΤΙΚΟ ΧΑΡΤΟΦΥΛΑΚΙΟ (χωρίς κινήσεις) ΑΡΧΙΚΟ ΚΕΦΑΛ. 101066 | R1: Column14 | S1: Column15 | T1: Column16 | U1: Column17 | V1: Column18 | W1: Column19 | X1: Column20 | Y1: Column21 | Z1: Column22 | AA1: Column23 | AB1: Column24 | AC1: Column25 | AD1: Column26 | AE1: Column27 | AF1: Column28 | AG1: Column29 | AH1: Column30 | AI1: Column31 | AJ1: Column32 | AK1: Column33 | AL1: Column34 | AM1: Column35 | AN1: Column36 | AO1: Column37 | AP1: Column38 | AQ1: Column39 | AR1: Column40 | AS1: Column41 | AT1: Column42 | AU1: Column43 | AV1: Column44 | AW1: Column45 | AX1: Column46 | AY1: Column47 | AZ1: Column48 | BA1: Column49 | BB1: Column50 | BC1: Column51 | BD1: Column52 | BE1: Column53 | BF1: Column54 | BG1: Column55 | BH1: Column56 | BI1: Column57 | BJ1: Column58 | BK1: Column59 | BL1: Column60 | BM1: Column61 | BN1: Column62 | BO1: Column63 | BP1: Column64 | BQ1: Column65 | BR1: Column66 | BS1: Column67 | BT1: Column68 | BU1: Column69 | BV1: Column70 | BW1: Column71 | BX1: Column72 | BY1: Column73 | BZ1: Column74 | CA1: Column75 | CB1: Column76 | CC1: Column77 | CD1: Column78 | CE1: Column79 | CF1: Column80 | CG1: Column81 | CH1: Column82 | CI1: Column83 | CJ1: Column84 | CK1: Column85 | CL1: Column86 | CM1: Column87 | CN1: Column88 | CO1: Column89 | CP1: Column90 | CQ1: Column91 | CR1: Column92 | CS1: Column93 | CT1: Column94 | CU1: Column95 | CV1: Column96 | CW1: Column97 | CX1: Column98 | CY1: Column99 | CZ1: Column100 | DA1: Column101 | DB1: Column102 | DC1: Column103 | DD1: Column104 | DE1: Column105 | DF1: Column106 | DG1: Column107 | DH1: Column108 | DI1: Column109 | DJ1: Column110 | DK1: Column111 | DL1: Column112 | DM1: Column113 | DN1: Column114 | DO1: Column115 | DP1: Column116 | DQ1: Column117 | DR1: Column118 | DS1: Column119 | DT1: Column120 | DU1: Column121 | DV1: Column122 | DW1: Column123 | DX1: Column124 | DY1: Column125 | DZ1: Column126 | EA1: Column127 | EB1: Column128 | EC1: Column129 | ED1: Column130 | EE1: Column131 | EF1: Column132 | EG1: Column133 | EH1: Column134 | EI1: Column135 | EJ1: Column136 | EK1: Column137 | EL1: Column138 | EM1: Column139 | EN1: Column140 | EO1: Column141 | EP1: Column142 | EQ1: Column143 | ER1: Column144 | ES1: Column145 | ET1: Column146 | EU1: Column147 | EV1: Column148 | EW1: Column149 | EX1: Column150 | EY1: Column151 | EZ1: Column152 | FA1: Column153 | FB1: Column154 | FC1: Column155 | FD1: Column156 | FE1: Column157 | FF1: Column158 | FG1: Column159 | FH1: Column160 | FI1: Column161 | FJ1: Column162 | FK1: Column163 | FL1: Column164 | FM1: Column165 | FN1: Column166 | FO1: Column167 | FP1: Column168 | FQ1: Column169 | FR1: Column170 | FS1: Column171 | FT1: Column172 | FU1: Column173 | FV1: Column174 | FW1: Column175 | FX1: Column176 | FY1: Column177 | FZ1: Column178 | GA1: Column179 | GB1: Column180 | GC1: Column181 | GD1: Column182 | GE1: Column183 | GF1: Column184 | GG1: Column185 | GH1: Column186 | GI1: Column187 | GJ1: Column188 | GK1: Column189 | GL1: Column190 | GM1: Column191 | GN1: Column192 | GO1: Column193 | GP1: Column194 | GQ1: Column195 | GR1: Column196 | GS1: Column197 | GT1: Column198 | GU1: Column199 | GV1: Column200 | GW1: Column201 | GX1: Column202 | GY1: Column203 | GZ1: Column204 | HA1: Column205 | HB1: Column206 | HC1: Column207 | HD1: Column208 | HE1: Column209 | HF1: Column210 | HG1: Column211 | HH1: Column212 | HI1: Column213 | HJ1: Column214 | HK1: Column215 | HL1: Column216 | HM1: Column217 | HN1: Column218 | HO1: Column219 | HP1: Column220 | HQ1: Column221 | HR1: Column222 | HS1: Column223 | HT1: Column224 | HU1: Column225 | HV1: Column226 | HW1: Column227 | HX1: Column228 | HY1: Column229 | HZ1: Column230 | IA1: Column231 | IB1: Column232 | IC1: Column233 | ID1: Column234 | IE1: Column235 | IF1: Column236 | IG1: Column237 | IH1: Column238 | II1: Column239 | IJ1: Column240 | IK1: Column241 | IL1: Column242 | IM1: Column243 | IN1: Column244 | IO1: Column245 | IP1: Column246 | IQ1: Column247 | IR1: Column248 | IS1: Column249 | IT1: Column250 | IU1: Column251 | IV1: Column252
A3: STOCKS | B3: current price | C3: 20.26 | D3: days long | E3: days short | F3: last entry short | G3: last entry long | H3: stop loss eod | I3: position | J3: % for stop | K3: CLOSE 2025 | L3: ΕΠΙΛΟΓΕΣ | N3: ΓΕΝΙΚΟΣ | O3: STOCKS | P3: ΑΡΙΘ ΜΕΤΟΧ | Q3: ΑΡΧΙΚ ΚΕΦΑΛ | R3: % 1/1/2025 | S3: ΑΠΟΤΙΜΗΣΗ
A4: ΑΛΦΑ | B4: =ALL!B16 -> 4.495 | C4: =((B4-K4)/K4)*100 -> 25.558659 | D4: =ALL!D16 -> 1 | E4: =ALL!E16 -> 4 | F4: =ALL!F16 -> 4.515 | G4: =ALL!G16 -> 4.098 | H4: =ALL!C16 -> 4.004 | I4: =IF(B4>H4,"Long","Short") -> Long | J4: =((B4-H4)/H4)*100 -> 12.262737 | K4: 3.58 | L4: =C34/100 -> 0.17403178 | N4: =C36/100 -> 0.23493742 | O4: ΑΛΦΑ | P4: =3704/K4 -> 1034.6369 | Q4: =P4*K4 -> 3704 | R4: =((B4-K4)/K4)*100 -> 25.558659 | S4: =B4*P4 -> 4650.6927
A5: ΟΤΕ | B5: =ALL!B251 -> 18.85 | C5: =((B5-K5)/K5)*100 -> 11.803084 | D5: =ALL!D251 -> N/A | E5: =ALL!E251 -> 29 | F5: =ALL!F251 -> N/A | G5: =ALL!G251 -> 19.49 | H5: =ALL!C251 -> 19.58 | I5: =IF(B5>H5,"Long","Short") -> Short | J5: =((B5-H5)/H5)*100 -> -3.7282942 | K5: 16.86 | O5: ΟΤΕ | P5: =3704/K5 -> 219.69158 | Q5: =P5*K5 -> 3704 | R5: =((B5-K5)/K5)*100 -> 11.803084 | S5: =B5*P5 -> 4141.1862
A6: METLEN | B6: =ALL!B232 -> 47.84 | C6: =((B6-K6)/K6)*100 -> 9.2237443 | D6: =ALL!D232 -> 17 | E6: =ALL!E232 -> 15 | F6: =ALL!F232 -> 49.9 | G6: =ALL!G232 -> 47.8 | H6: =ALL!C232 -> 48.92 | I6: =IF(B6>H6,"Long","Short") -> Short | J6: =((B6-H6)/H6)*100 -> -2.207686 | K6: 43.8 | M6: % από δείκτη αναφοράς | O6: METLEN | P6: =3704/K6 -> 84.56621 | Q6: =P6*K6 -> 3704 | R6: =((B6-K6)/K6)*100 -> 9.2237443 | S6: =B6*P6 -> 4045.6475
A7: ELTON | B7: =ALL!B99 -> 1.735 | C7: =((B7-K7)/K7)*100 -> -18.160377 | D7: =ALL!D99 -> 23 | E7: =ALL!E99 -> 15 | F7: =ALL!F99 -> 1.825 | G7: =ALL!G99 -> 1.69 | H7: =ALL!C99 -> 1.765 | I7: =IF(B7>H7,"Long","Short") -> Short | J7: =((B7-H7)/H7)*100 -> -1.6997167 | K7: 2.12 | M7: =-N4+L4 -> -0.060905638 | O7: ELTON | P7: =3704/K7 -> 1747.1698 | Q7: =P7*K7 -> 3704 | R7: =((B7-K7)/K7)*100 -> -18.160377 | S7: =B7*P7 -> 3031.3396
A8: ΕΛΠΕ | B8: =ALL!B96 -> 18.1 | C8: =((B8-K8)/K8)*100 -> 116.50718 | D8: =ALL!D96 -> 21 | E8: =ALL!E96 -> 1 | F8: =ALL!F96 -> 18.63 | G8: =ALL!G96 -> 17.77 | H8: =ALL!C96 -> 19.2 | I8: =IF(B8>H8,"Long","Short") -> Short | J8: =((B8-H8)/H8)*100 -> -5.7291667 | K8: 8.36 | O8: ΕΛΠΕ | P8: =3704/K8 -> 443.0622 | Q8: =P8*K8 -> 3704 | R8: =((B8-K8)/K8)*100 -> 116.50718 | S8: =B8*P8 -> 8019.4258
A9: ΠΕΡΦ | B9: =ALL!B260 -> 9.83 | C9: =((B9-K9)/K9)*100 -> 12.342857 | D9: =ALL!D260 -> 6 | E9: =ALL!E260 -> 18 | F9: =ALL!F260 -> 10.14 | G9: =ALL!G260 -> 9.69 | H9: =ALL!C260 -> 9.72 | I9: =IF(B9>H9,"Long","Short") -> Long | J9: =((B9-H9)/H9)*100 -> 1.1316872 | K9: 8.75 | O9: ΠΕΡΦ | P9: =3704/K9 -> 423.31429 | Q9: =P9*K9 -> 3704 | R9: =((B9-K9)/K9)*100 -> 12.342857 | S9: =B9*P9 -> 4161.1794
A10: ΚΟΥΕΣ | B10: =ALL!B185 -> 7.52 | C10: =((B10-K10)/K10)*100 -> 6.5155807 | D10: =ALL!D185 -> 3 | E10: =ALL!E185 -> 16 | F10: =ALL!F185 -> 7.6 | G10: =ALL!G185 -> 7.55 | H10: =ALL!C185 -> 7.2 | I10: =IF(B10>H10,"Long","Short") -> Long | J10: =((B10-H10)/H10)*100 -> 4.4444444 | K10: 7.06 | O10: ΚΟΥΕΣ | P10: =3704/K10 -> 524.64589 | Q10: =P10*K10 -> 3704 | R10: =((B10-K10)/K10)*100 -> 6.5155807 | S10: =B10*P10 -> 3945.3371
A11: CPI | B11: =ALL!B294 -> 0.51 | C11: =((B11-K11)/K11)*100 -> -17.741935 | D11: =ALL!D294 -> 24 | E11: =ALL!E294 -> 36 | F11: =ALL!F294 -> 0.498 | G11: =ALL!G294 -> 0.493 | H11: =ALL!C294 -> 0.465 | I11: =IF(B11>H11,"Long","Short") -> Long | J11: =((B11-H11)/H11)*100 -> 9.6774194 | K11: 0.62 | O11: CPI | P11: =3704/K11 -> 5974.1935 | Q11: =P11*K11 -> 3704 | R11: =((B11-K11)/K11)*100 -> -17.741935 | S11: =B11*P11 -> 3046.8387
A12: AKTOR | B12: =ALL!B342 -> 10.26 | C12: =((B12-K12)/K12)*100 -> 4.6938776 | D12: =ALL!D342 -> 13 | E12: =ALL!E342 -> 35 | F12: =ALL!F342 -> 9.84 | G12: =ALL!G342 -> 10.02 | H12: =ALL!C342 -> 9.68 | I12: =IF(B12>H12,"Long","Short") -> Long | J12: =((B12-H12)/H12)*100 -> 5.9917355 | K12: 9.8 | O12: AKTOR | P12: =3704/K12 -> 377.95918 | Q12: =P12*K12 -> 3704 | R12: =((B12-K12)/K12)*100 -> 4.6938776 | S12: =B12*P12 -> 3877.8612
A13: ΔΕΗ | B13: =ALL!B64 -> 23.14 | C13: =((B13-K13)/K13)*100 -> 27.142857 | D13: =ALL!D64 -> 1 | E13: =ALL!E64 -> 25 | F13: =ALL!F64 -> 23.38 | G13: =ALL!G64 -> 22.94 | H13: =ALL!C64 -> 22.12 | I13: =IF(B13>H13,"Long","Short") -> Long | J13: =((B13-H13)/H13)*100 -> 4.6112116 | K13: 18.2 | O13: ΔΕΗ | P13: =3704/K13 -> 203.51648 | Q13: =P13*K13 -> 3704 | R13: =((B13-K13)/K13)*100 -> 27.142857 | S13: =B13*P13 -> 4709.3714
A14: SOFTWEB | B14: =ALL!B344 -> 2.88 | C14: =((B14-K14)/K14)*100 -> -17.002882 | D14: =ALL!D344 -> N/A | E14: =ALL!E344 -> N/A | F14: =ALL!F344 -> N/A | G14: =ALL!G344 -> N/A | H14: =ALL!C344 -> 2.79 | I14: =IF(B14>H14,"Long","Short") -> Long | J14: =((B14-H14)/H14)*100 -> 3.2258065 | K14: 3.47 | O14: SOFTWEB | P14: =3704/K14 -> 1067.4352 | Q14: =P14*K14 -> 3704 | R14: =((B14-K14)/K14)*100 -> -17.002882 | S14: =B14*P14 -> 3074.2133
A15: ΙΝΤΕΚ | B15: =ALL!B159 -> 5.37 | C15: =((B15-K15)/K15)*100 -> -14.626391 | D15: =ALL!D5159 -> 0 | E15: =ALL!E159 -> N/A | F15: =ALL!F159 -> N/A | G15: =ALL!G159 -> N/A | H15: =ALL!C159 -> 5.48 | I15: =IF(B15>H15,"Long","Short") -> Short | J15: =((B15-H15)/H15)*100 -> -2.0072993 | K15: 6.29 | M15: ` | O15: ΙΝΤΕΚ | P15: =3704/K15 -> 588.87122 | Q15: =P15*K15 -> 3704 | R15: =((B15-K15)/K15)*100 -> -14.626391 | S15: =B15*P15 -> 3162.2385
A16: ΕΛΧΑ | B16: =ALL!B330 -> 3.515 | C16: =((B16-K16)/K16)*100 -> -6.5159574 | D16: =ALL!D330 -> 0 | E16: =ALL!E330 -> 16 | F16: =ALL!F330 -> 3.515 | G16: =ALL!G330 -> 3.64 | H16: =ALL!C330 -> 3.34 | I16: =IF(B16>H16,"Long","Short") -> Long | J16: =((B16-H16)/H16)*100 -> 5.239521 | K16: 3.76 | O16: ΕΛΧΑ | P16: =3704/K16 -> 985.10638 | Q16: =P16*K16 -> 3704 | R16: =((B16-K16)/K16)*100 -> -6.5159574 | S16: =B16*P16 -> 3462.6489
A17: ΠΕΙΡ | B17: =ALL!B258 -> 9.8 | C17: =((B17-K17)/K17)*100 -> 44.329897 | D17: =ALL!D258 -> 6 | E17: =ALL!E258 -> 4 | F17: =ALL!F258 -> 10.215 | G17: =ALL!G258 -> 9.1 | H17: =ALL!C258 -> 10.23 | I17: =IF(B17>H17,"Long","Short") -> Short | J17: =((B17-H17)/H17)*100 -> -4.2033236 | K17: 6.79 | O17: ΠΕΙΡ | P17: =3704/K17 -> 545.5081 | Q17: =P17*K17 -> 3704 | R17: =((B17-K17)/K17)*100 -> 44.329897 | S17: =B17*P17 -> 5345.9794
A18: EBROF | B18: =ALL!B75 -> 3.68 | C18: =((B18-K18)/K18)*100 -> 1.9390582 | D18: =ALL!D75 -> N/A | E18: =ALL!E75 -> 33 | F18: =ALL!F75 -> N/A | G18: =ALL!G75 -> 3.89 | H18: =ALL!C75 -> 3.77 | I18: =IF(B18>H18,"Long","Short") -> Short | J18: =((B18-H18)/H18)*100 -> -2.3872679 | K18: 3.61 | O18: EBROF | P18: =3704/K18 -> 1026.0388 | Q18: =P18*K18 -> 3704 | R18: =((B18-K18)/K18)*100 -> 1.9390582 | S18: =B18*P18 -> 3775.8227
A19: ΚΡΙ ΚΡΙ | B19: =ALL!B190 -> 34.15 | C19: =((B19-K19)/K19)*100 -> 79.736842 | D19: =ALL!D190 -> N/A | E19: =ALL!E190 -> N/A | F19: =ALL!F190 -> N/A | G19: =ALL!G190 -> N/A | H19: =ALL!C190 -> 32.2 | I19: =IF(B19>H19,"Long","Short") -> Long | J19: =((B19-H19)/H19)*100 -> 6.0559006 | K19: 19 | O19: ΚΡΙ ΚΡΙ | P19: =3704/K19 -> 194.94737 | Q19: =P19*K19 -> 3704 | R19: =((B19-K19)/K19)*100 -> 79.736842 | S19: =B19*P19 -> 6657.4526
A20: EUROB | B20: =ALL!B112 -> 4.498 | C20: =((B20-K20)/K20)*100 -> 31.137026 | D20: =ALL!D112 -> 6 | E20: =ALL!E112 -> 5 | F20: =ALL!F112 -> 4.516 | G20: =ALL!G112 -> 4.32 | H20: =ALL!C112 -> 4.545 | I20: =IF(B20>H20,"Long","Short") -> Short | J20: =((B20-H20)/H20)*100 -> -1.0341034 | K20: 3.43 | O20: EUROBANK | P20: =3704/K20 -> 1079.8834 | Q20: =P20*K20 -> 3704 | R20: =((B20-K20)/K20)*100 -> 31.137026 | S20: =B20*P20 -> 4857.3155
A21: EVR | B21: =ALL!B341 -> 1.328 | C21: =((B21-K21)/K21)*100 -> -33.266332 | D21: =ALL!D341 -> N/A | E21: =ALL!E341 -> N/A | F21: =ALL!F341 -> N/A | G21: =ALL!G341 -> N/A | H21: =ALL!C341 -> 1.39 | I21: =IF(B21>H21,"Long","Short") -> Short | J21: =((B21-H21)/H21)*100 -> -4.4604317 | K21: 1.99 | O21: EVR | P21: =3704/K21 -> 1861.3065 | Q21: =P21*K21 -> 3704 | R21: =((B21-K21)/K21)*100 -> -33.266332 | S21: =B21*P21 -> 2471.8151
A22: ΒΙΟ | B22: =ALL!B49 -> 15.34 | C22: =((B22-K22)/K22)*100 -> 28.907563 | D22: =ALL!D49 -> 23 | E22: =ALL!E49 -> 15 | F22: =ALL!F49 -> 17.6 | G22: =ALL!G49 -> 16.46 | H22: =ALL!C49 -> 15.9 | I22: =IF(B22>H22,"Long","Short") -> Short | J22: =((B22-H22)/H22)*100 -> -3.5220126 | K22: 11.9 | O22: ΒΙΟ | P22: =3704/K22 -> 311.2605 | Q22: =P22*K22 -> 3704 | R22: =((B22-K22)/K22)*100 -> 28.907563 | S22: =B22*P22 -> 4774.7361
A23: CENERGY | B23: =ALL!B58 -> 22.4 | C23: =((B23-K23)/K23)*100 -> 49.333333 | D23: =ALL!D58 -> 23 | E23: =ALL!E58 -> 15 | F23: =ALL!F58 -> 24.3 | G23: =ALL!G58 -> 22.9 | H23: =ALL!C58 -> 22.72 | I23: =IF(B23>H23,"Long","Short") -> Short | J23: =((B23-H23)/H23)*100 -> -1.4084507 | K23: 15 | O23: CENERGY | P23: =3704/K23 -> 246.93333 | Q23: =P23*K23 -> 3704 | R23: =((B23-K23)/K23)*100 -> 49.333333 | S23: =B23*P23 -> 5531.3067
A24: ΓΕΚΤΕΡΝΑ | B24: =ALL!B143 -> 39.6 | C24: =((B24-K24)/K24)*100 -> 55.782848 | D24: =ALL!D143 -> 46 | E24: =ALL!E143 -> 33 | F24: =ALL!F143 -> 46.8 | G24: =ALL!G143 -> 43.5 | H24: =ALL!C143 -> 40.74 | I24: =IF(B24>H24,"Long","Short") -> Short | J24: =((B24-H24)/H24)*100 -> -2.7982327 | K24: 25.42 | O24: ΓΕΚΤΕΡΝΑ | P24: =3704/K24 -> 145.71204 | Q24: =P24*K24 -> 3704 | R24: =((B24-K24)/K24)*100 -> 55.782848 | S24: =B24*P24 -> 5770.1967
A25: ΕΤΕ | B25: =ALL!B109 -> 15.735 | C25: =((B25-K25)/K25)*100 -> 21.038462 | D25: =ALL!D109 -> 23 | E25: =ALL!E109 -> 16 | F25: =ALL!F109 -> 17.8 | G25: =ALL!G109 -> 16.715 | H25: =ALL!C109 -> 16.57 | I25: =IF(B25>H25,"Long","Short") -> Short | J25: =((B25-H25)/H25)*100 -> -5.0392275 | K25: 13 | O25: ΕΤΕ | P25: =3704/K25 -> 284.92308 | Q25: =P25*K25 -> 3704 | R25: =((B25-K25)/K25)*100 -> 21.038462 | S25: =B25*P25 -> 4483.2646
A26: ΛΑΒΙ | B26: =ALL!B195 -> 1.512 | C26: =((B26-K26)/K26)*100 -> 55.876289 | D26: =ALL!D195 -> N/A | E26: =ALL!E195 -> 16 | F26: =ALL!F195 -> N/A | G26: =ALL!G195 -> 1.53 | H26: =ALL!C195 -> 1.53 | I26: =IF(B26>H26,"Long","Short") -> Short | J26: =((B26-H26)/H26)*100 -> -1.1764706 | K26: 0.97 | O26: ΛΑΒΙ | P26: =3704/K26 -> 3818.5567 | Q26: =P26*K26 -> 3704 | R26: =((B26-K26)/K26)*100 -> 55.876289 | S26: =B26*P26 -> 5773.6577
A27: BYLOT | B27: =ALL!B346 -> 1.114 | C27: =((B27-K27)/K27)*100 -> 5.0943396 | D27: =ALL!D346 -> 25 | E27: =ALL!E346 -> N/A | F27: =ALL!F346 -> 1.12 | G27: =ALL!G346 -> N/A | H27: =ALL!C346 -> 1.094 | I27: =IF(B27>H27,"Long","Short") -> Long | J27: =((B27-H27)/H27)*100 -> 1.8281536 | K27: 1.06 | O27: BYLOT | P27: =3704/K27 -> 3494.3396 | Q27: =P27*K27 -> 3704 | R27: =((B27-K27)/K27)*100 -> 5.0943396 | S27: =B27*P27 -> 3892.6943
A28: ΠΛΑΘ | B28: =ALL!B267 -> 4.765 | C28: =((B28-K28)/K28)*100 -> 17.945545 | D28: =ALL!D267 -> 27 | E28: =ALL!E267 -> N/A | F28: =ALL!F267 -> 5.22 | G28: =ALL!G267 -> N/A | H28: =ALL!C267 -> 4.63 | I28: =IF(B28>H28,"Long","Short") -> Long | J28: =((B28-H28)/H28)*100 -> 2.9157667 | K28: 4.04 | O28: ΜΟΗ | P28: =3704/K28 -> 916.83168 | Q28: =P28*K28 -> 3704 | R28: =((B28-K28)/K28)*100 -> 17.945545 | S28: =B28*P28 -> 4368.703
A29: CREDIA | B29: =ALL!B345 -> 0.94 | C29: =((B29-K29)/K29)*100 -> -41.396509 | D29: =ALL!D345 -> 6 | E29: =ALL!E345 -> 15 | F29: =ALL!F345 -> 0.969 | G29: =ALL!G345 -> 0.908 | H29: =ALL!C345 -> 0.907 | I29: =IF(B29>H29,"Long","Short") -> Long | J29: =((B29-H29)/H29)*100 -> 3.6383682 | K29: 1.604 | O29: ΑΤΤ | P29: =3704/K29 -> 2309.2269 | Q29: =P29*K29 -> 3704 | R29: =((B29-K29)/K29)*100 -> -41.396509 | S29: =B29*P29 -> 2170.6733
A30: ΔΑΑ | B30: =ALL!B343 -> 12.21 | C30: =((B30-K30)/K30)*100 -> 13.687151 | D30: =ALL!D343 -> N/A | E30: =ALL!E343 -> N/A | F30: =ALL!F343 -> N/A | G30: =ALL!G343 -> N/A | H30: =ALL!C343 -> 11.9 | I30: =IF(B30>H30,"Long","Short") -> Long | J30: =((B30-H30)/H30)*100 -> 2.605042 | K30: 10.74 | O30: ΔΑΑ | P30: =3704/K30 -> 344.87896 | Q30: =P30*K30 -> 3704 | R30: =((B30-K30)/K30)*100 -> 13.687151 | S30: =B30*P30 -> 4210.9721
Q31: =SUM(Q4:Q30) -> 100008 | R31: =C33/27 -> 17.403178 | S31: =SUM(S4:S30) -> 117412.57
O32: Η αποτίμηση δεν περιέχει τυχόν μερίσματα
C33: =SUM(C4:C30) -> 469.88581 | K33: 2022
A34: PERFORM | C34: =C33/27 -> 17.403178 | D34: !!
N35: Σημείωση: Το υποθετικό χαρτοφυλάκιο είναι επιλογές για το 2026 και δείχνει την αποδοση απο
A36: ΓΔ | B36: =ALL!B140 -> 2619.0801 | C36: =((B36-K36)/K36)*100 -> 23.493742 | K36: 2120.8201 | L36: 0 | N36: αρχές έτους με κεφάλαιο ίσα διανεμημένο χωρίς κινήσεις απο το σύστημα και χωρίς να υπολογίζονται
A37: FTSE | B37: =ALL!B129 -> 6702.29 | C37: =((B37-K37)/K37)*100 -> 25.186827 | K37: 5353.8301
A38: ΔΤΡΑΠΕΖΩΝ | B38: =ALL!O384 -> 2748.51 | C38: =((B38-K38)/K38)*100 -> 18.635428 | K38: 2316.77
A39: FTSEM | B39: =ALL!B135 -> 3082.1499 | C39: =((B39-K39)/K39)*100 -> 9.4369628 | D39: X | K39: 2816.3701
N40: Σημείωση: Για να δωθεί σήμα χρειάζεται κλείσιμο μέρας από την τιμή του stop
B41: Επεξήγηση στηλών
B43: current price | C43: κλείσιμο μέρας
B44: 2026 | C44: απόδοση 2026
B45: days long | C45: πόσες μέρες είναι-ηταν long από το τελευταίο σήμα
B46: days short | C46: πόσες μέρες είναι-ηταν short από το τελευταίο σήμα
B47: entry long | C47: σε ποια τιμή μπήκε Long στο τελευταίο σήμα
B48: entry short | C48: σε ποια τιμή μπήκε short στο τελευταίο σήμα
B49: stop loss end | C49: stop loss σε κλείσιμο μέρας
B50: position | C50: υπάρχουσα θέση
B51: % for stop | C51: απόσταση σε ποσοστό για το stop
B52: close 2025 | C52: κλείσιμο 2025

Sheet OUTSIDERS 2023
C1: OUTSIDERS 2020
A3: STOCKS | B3: current price | C3: 2020 | D3: days long | E3: days short | F3: last entry short | G3: last entry long | H3: stop loss eod | I3: position | J3: % for stop | K3: CLOSE 2014 | M3: =A27 -> PERFORM | N3: =A29 -> ΓΔ
A4: ΕΠΣΙΛ | B4: =ALL!B5 -> 4.78 | C4: =((B4-K4)/K4)*100 -> 762.81588 | D4: =ALL!D5 -> 18 | E4: =ALL!E5 -> N/A | F4: =ALL!F5 -> 4.78 | G4: =ALL!G5 -> N/A | H4: =ALL!C5 -> 4.4 | I4: =IF(B4>H4,"Long","Short") -> Long | J4: =((B4-H4)/H4)*100 -> 8.6363636 | K4: 0.554 | M4: =C27/100 -> #N/A | N4: =C29/100 -> #N/A
A5: ΠΛΑΘ | B5: =ALL!B112 -> 4.498 | C5: =((B5-K5)/K5)*100 -> 459.45274 | D5: =ALL!D112 -> 6 | E5: =ALL!E112 -> 5 | F5: =ALL!F112 -> 4.516 | G5: =ALL!G112 -> 4.32 | H5: =ALL!C112 -> 4.545 | I5: =IF(B5>H5,"Long","Short") -> Short | J5: =((B5-H5)/H5)*100 -> -1.0341034 | K5: 0.804
A6: CENER | B6: =ALL!B25 -> #N/A | C6: =((B6-K6)/K6)*100 -> #N/A | D6: =ALL!D25 -> #N/A | E6: =ALL!E25 -> #N/A | F6: =ALL!F25 -> #N/A | G6: =ALL!G25 -> #N/A | H6: =ALL!C25 -> #N/A | I6: =IF(B6>H6,"Long","Short") -> #N/A | J6: =((B6-H6)/H6)*100 -> #N/A | K6: 0.265 | M6: % από δείκτη αναφοράς
A7: ΕΛΛΑΣΤ | B7: =ALL!B29 -> 10.8 | C7: =((B7-K7)/K7)*100 -> 2354.5455 | D7: =ALL!D39 -> N/A | E7: =ALL!E29 -> N/A | F7: =ALL!F29 -> N/A | G7: =ALL!G29 -> N/A | H7: =ALL!C29 -> 11.2 | I7: =IF(B7>H7,"Long","Short") -> Short | J7: =((B7-H7)/H7)*100 -> -3.5714286 | K7: 0.44 | M7: =-N4+M4 -> #N/A
A8: ΙΝΚΑΤ | B8: =ALL!B58 -> 22.4 | C8: =((B8-K8)/K8)*100 -> 4615.7895 | D8: =ALL!D58 -> 23 | E8: =ALL!E58 -> 15 | F8: =ALL!F58 -> 24.3 | G8: =ALL!G58 -> 22.9 | H8: =ALL!C58 -> 22.72 | I8: =IF(B8>H8,"Long","Short") -> Short | J8: =((B8-H8)/H8)*100 -> -1.4084507 | K8: 0.475
A9: ΚΛΜ | B9: =ALL!B64 -> 23.14 | C9: =((B9-K9)/K9)*100 -> 1707.8125 | D9: =ALL!D64 -> 1 | E9: =ALL!E64 -> 25 | F9: =ALL!F64 -> 23.38 | G9: =ALL!G64 -> 22.94 | H9: =ALL!C64 -> 22.12 | I9: =IF(B9>H9,"Long","Short") -> Long | J9: =((B9-H9)/H9)*100 -> 4.6112116 | K9: 1.28
A10: ΦΡΙΓΟ | B10: =ALL!B65 -> #N/A | C10: =((B10-K10)/K10)*100 -> #N/A | D10: =ALL!D65 -> #N/A | E10: =ALL!E65 -> #N/A | F10: =ALL!F65 -> #N/A | G10: =ALL!G65 -> #N/A | H10: =ALL!C65 -> #N/A | I10: =IF(B10>H10,"Long","Short") -> #N/A | J10: =((B10-H10)/H10)*100 -> #N/A | K10: 0.47
A11: ΜΕΒΑ | B11: =ALL!B80 -> 56.1 | C11: =((B11-K11)/K11)*100 -> 5566.6667 | D11: =ALL!D80 -> 10 | E11: =ALL!E80 -> 29 | F11: =ALL!F80 -> 52.6 | G11: =ALL!G80 -> 50.6 | H11: =ALL!C80 -> 49.65 | I11: =IF(B11>H11,"Long","Short") -> Long | J11: =((B11-H11)/H11)*100 -> 12.990937 | K11: 0.99
A12: ΑΡΑΙΓ | B12: =ALL!B35 -> 1.03 | C12: =((B12-K12)/K12)*100 -> 8.8794926 | D12: =ALL!D35 -> N/A | E12: =ALL!E35 -> N/A | F12: =ALL!F35 -> N/A | G12: =ALL!G35 -> N/A | H12: =ALL!C35 -> N/A | I12: =IF(B12>H12,"Long","Short") -> Short | J12: =((B12-H12)/H12)*100 -> #VALUE! | K12: 0.946
A13: ΕΥΠΙΚ | B13: =ALL!B43 -> #N/A | C13: =((B13-K13)/K13)*100 -> #N/A | D13: =ALL!D43 -> #N/A | E13: =ALL!E43 -> #N/A | F13: =ALL!F43 -> #N/A | G13: =ALL!G43 -> #N/A | H13: =ALL!C43 -> #N/A | I13: =IF(B13>H13,"Long","Short") -> #N/A | J13: =((B13-H13)/H13)*100 -> #N/A | K13: 1.39
A14: ΙΚΤΙΝ | B14: =ALL!B76 -> #N/A | C14: =((B14-K14)/K14)*100 -> #N/A | D14: =ALL!D76 -> #N/A | E14: =ALL!E76 -> #N/A | F14: =ALL!F76 -> #N/A | G14: =ALL!G76 -> #N/A | H14: =ALL!C76 -> #N/A | I14: =IF(B14>H14,"Long","Short") -> #N/A | J14: =((B14-H14)/H14)*100 -> #N/A | K14: 1.57
A15: ΦΛΕΞΟ | B15: =ALL!B119 -> #N/A | C15: =((B15-K15)/K15)*100 -> #N/A | D15: =ALL!D119 -> #N/A | E15: =ALL!E119 -> #N/A | F15: =ALL!F119 -> #N/A | G15: =ALL!G119 -> #N/A | H15: =ALL!C119 -> #N/A | I15: =IF(B15>H15,"Long","Short") -> #N/A | J15: =((B15-H15)/H15)*100 -> #N/A | K15: 0.3
A16: ΠΛΑΙΣ | B16: =ALL!B105 -> #N/A | C16: =((B16-K16)/K16)*100 -> #N/A | D16: =ALL!D105 -> #N/A | E16: =ALL!E105 -> #N/A | F16: =ALL!F105 -> #N/A | G16: =ALL!G105 -> #N/A | H16: =ALL!C105 -> #N/A | I16: =IF(B16>H16,"Long","Short") -> #N/A | J16: =((B16-H16)/H16)*100 -> #N/A | K16: 0.9
A17: ΑΒΕ | B17: =ALL!B46 -> #N/A | C17: =((B17-K17)/K17)*100 -> #N/A | D17: =ALL!D46 -> #N/A | E17: =ALL!E46 -> #N/A | F17: =ALL!F46 -> #N/A | G17: =ALL!G46 -> #N/A | H17: =ALL!C46 -> #N/A | I17: =IF(B17>H17,"Long","Short") -> #N/A | J17: =((B17-H17)/H17)*100 -> #N/A | K17: 1.9
A18: ΑΤΤΙΚΑ | B18: =ALL!B103 -> #N/A | C18: =((B18-K18)/K18)*100 -> #N/A | D18: =ALL!D103 -> #N/A | E18: =ALL!E103 -> #N/A | F18: =ALL!F103 -> #N/A | G18: =ALL!G103 -> #N/A | H18: =ALL!C103 -> #N/A | I18: =IF(B18>H18,"Long","Short") -> #N/A | J18: =((B18-H18)/H18)*100 -> #N/A | K18: 5.5
A19: ΡΟΕΝ | B19: 4.86 | C19: =((B19-K19)/K19)*100 -> -29.565217 | D19: =ALL!D14 -> N/A | E19: =ALL!E14 -> N/A | F19: =ALL!F14 -> N/A | G19: =ALL!G14 -> N/A | H19: =ALL!C14 -> N/A | I19: =IF(B19>H19,"Long","Short") -> Short | J19: =((B19-H19)/H19)*100 -> #VALUE! | K19: 6.9
A20: ΟΤΟΕΛ | B20: =ALL!B94 -> 1.23 | C20: =((B20-K20)/K20)*100 -> 1282.0225 | D20: =ALL!D94 -> 31 | E20: =ALL!E94 -> 15 | F20: =ALL!F94 -> 1.308 | G20: =ALL!G94 -> 1.25 | H20: =ALL!C94 -> 1.278 | I20: =IF(B20>H20,"Long","Short") -> Short | J20: =((B20-H20)/H20)*100 -> -3.7558685 | K20: 0.089
A21: ΠΡΕΖΤ | B21: =ALL!B123 -> #N/A | C21: =((B21-K21)/K21)*100 -> #N/A | D21: =ALL!D123 -> #N/A | E21: =ALL!E123 -> #N/A | F21: =ALL!F123 -> #N/A | G21: =ALL!G123 -> #N/A | H21: =ALL!C123 -> #N/A | I21: =IF(B21>H21,"Long","Short") -> #N/A | J21: =((B21-H21)/H21)*100 -> #N/A | K21: 0.182
A22: ΑΒΑΞ | B22: =ALL!B100 -> #N/A | C22: =((B22-K22)/K22)*100 -> #N/A | D22: =ALL!D100 -> #N/A | E22: =ALL!E100 -> #N/A | F22: =ALL!F100 -> #N/A | G22: =ALL!G100 -> #N/A | H22: =ALL!C100 -> #N/A | I22: =IF(B22>H22,"Long","Short") -> #N/A | J22: =((B22-H22)/H22)*100 -> #N/A | K22: 9.28
A23: ΠΕΡΦ | B23: =ALL!B260 -> 9.83 | C23: =((B23-K23)/K23)*100 -> 93.503937 | D23: =ALL!D69 -> N/A | E23: =ALL!E69 -> 19 | F23: =ALL!F69 -> N/A | G23: =ALL!G69 -> 2.56 | H23: =ALL!C69 -> 2.78 | I23: =IF(B23>H23,"Long","Short") -> Long | J23: =((B23-H23)/H23)*100 -> 253.59712 | K23: 5.08
C26: =SUM(C4:C23) -> #N/A
A27: PERFORM | C27: =C26/20 -> #N/A
A29: ΓΔ | B29: =ALL!B54 -> #N/A | C29: =((B29-K29)/K29)*100 -> #N/A | K29: 826.18

Sheet Compatibility Report

Sheet ALL
B2: DAILY | C2: =TODAY() -> 46327
A3: Security Name | B3: current price | C3: stop loss end of day | D3: days long | E3: days short | F3: entry short | G3: entry long | H3: positions
A4: Security Name | B4: c | C4: mpr | D4: Bars l | E4: Val l | F4: Bars S | G4: Val s | N4: Security Name | O4: Bars L | P4: Bars S | Q4: Entry L | R4: Entry S | S4: mpritzi | T4: C | U4: Ticker Symbol | V4: Location
A5: AAAK | B5: =VLOOKUP($A5,$N$5:$U$375,2,FALSE) -> 4.78 | C5: =VLOOKUP($A5,$N$5:$U$375,3,FALSE) -> 4.4 | D5: =VLOOKUP($A5,$N$5:$U$375,4,FALSE) -> 18 | E5: =VLOOKUP($A5,$N$5:$U$375,5,FALSE) -> N/A | F5: =VLOOKUP($A5,$N$5:$U$375,6,FALSE) -> 4.78 | G5: =VLOOKUP($A5,$N$5:$U$375,7,FALSE) -> N/A | H5: =IF(B5>C5,"Long","Short") -> Long | J5: =VALUE(O5) | N5: AAAK | O5: 4.78 | P5: 4.4 | Q5: 18 | R5: N/A | S5: 4.78 | T5: N/A | U5: ΑΑΑΚ | V5: C:\Data_4trader\Metoxes_ASE
A6: AAAP | B6: =VLOOKUP($A6,$N$5:$U$375,2,FALSE) -> #N/A | C6: =VLOOKUP($A6,$N$5:$U$375,3,FALSE) -> #N/A | D6: =VLOOKUP($A6,$N$5:$U$375,4,FALSE) -> #N/A | E6: =VLOOKUP($A6,$N$5:$U$375,5,FALSE) -> #N/A | F6: =VLOOKUP($A6,$N$5:$U$375,6,FALSE) -> #N/A | G6: =VLOOKUP($A6,$N$5:$U$375,7,FALSE) -> #N/A | H6: =IF(B6>C6,"Long","Short") -> #N/A | N6: ABAX | O6: 3.34 | P6: 3.35 | Q6: 22 | R6: 15 | S6: 3.38 | T6: 3.21 | U6: ΑΒΑΞ | V6: C:\Data_4trader\Metoxes_ASE
A7: ABAX | B7: =VLOOKUP($A7,$N$5:$U$375,2,FALSE) -> 3.34 | C7: =VLOOKUP($A7,$N$5:$U$375,3,FALSE) -> 3.35 | D7: =VLOOKUP($A7,$N$5:$U$375,4,FALSE) -> 22 | E7: =VLOOKUP($A7,$N$5:$U$375,5,FALSE) -> 15 | F7: =VLOOKUP($A7,$N$5:$U$375,6,FALSE) -> 3.38 | G7: =VLOOKUP($A7,$N$5:$U$375,7,FALSE) -> 3.21 | H7: =IF(B7>C7,"Long","Short") -> Short | N7: ABE | O7: 0.459 | P7: 0.467 | Q7: N/A | R7: N/A | S7: N/A | T7: N/A | U7: ΑΒΕ | V7: C:\Data_4trader\Metoxes_ASE
A8: ABE | B8: =VLOOKUP($A8,$N$5:$U$375,2,FALSE) -> 0.459 | C8: =VLOOKUP($A8,$N$5:$U$375,3,FALSE) -> 0.467 | D8: =VLOOKUP($A8,$N$5:$U$375,4,FALSE) -> N/A | E8: =VLOOKUP($A8,$N$5:$U$375,5,FALSE) -> N/A | F8: =VLOOKUP($A8,$N$5:$U$375,6,FALSE) -> N/A | G8: =VLOOKUP($A8,$N$5:$U$375,7,FALSE) -> N/A | H8: =IF(B8>C8,"Long","Short") -> Short | N8: ACAG | O8: 9.87 | P8: N/A | Q8: N/A | R8: N/A | S8: N/A | T8: N/A | U8: ACAG | V8: C:\Data_4trader\Metoxes_ASE
A9: ABENIR | B9: =VLOOKUP($A9,$N$5:$U$375,2,FALSE) -> #N/A | C9: =VLOOKUP($A9,$N$5:$U$375,3,FALSE) -> #N/A | D9: =VLOOKUP($A9,$N$5:$U$375,4,FALSE) -> #N/A | E9: =VLOOKUP($A9,$N$5:$U$375,5,FALSE) -> #N/A | F9: =VLOOKUP($A9,$N$5:$U$375,6,FALSE) -> #N/A | G9: =VLOOKUP($A9,$N$5:$U$375,7,FALSE) -> #N/A | H9: =IF(B9>C9,"Long","Short") -> #N/A | N9: ADAK | O9: 67.14 | P9: 67.74 | Q9: 21 | R9: 16 | S9: 70.52 | T9: 67.3 | U9: ΑΔΑΚ | V9: C:\Data_4trader\Metoxes_ASE
A10: ADAK20 | B10: =VLOOKUP($A10,$N$5:$U$375,2,FALSE) -> 67.14 | C10: =VLOOKUP($A10,$N$5:$U$375,3,FALSE) -> 67.74 | D10: =VLOOKUP($A10,$N$5:$U$375,4,FALSE) -> 21 | E10: =VLOOKUP($A10,$N$5:$U$375,5,FALSE) -> 16 | F10: =VLOOKUP($A10,$N$5:$U$375,6,FALSE) -> 70.52 | G10: =VLOOKUP($A10,$N$5:$U$375,7,FALSE) -> 67.3 | H10: =IF(B10>C10,"Long","Short") -> Short | N10: ADAK20 | O10: 67.14 | P10: 67.74 | Q10: 21 | R10: 16 | S10: 70.52 | T10: 67.3 | U10: ΑΔΑΚ | V10: C:\Data_4trader\Metoxes_ASE
A11: AEGEK | B11: =VLOOKUP($A11,$N$5:$U$375,2,FALSE) -> #N/A | C11: =VLOOKUP($A11,$N$5:$U$375,3,FALSE) -> #N/A | D11: =VLOOKUP($A11,$N$5:$U$375,4,FALSE) -> #N/A | E11: =VLOOKUP($A11,$N$5:$U$375,5,FALSE) -> #N/A | F11: =VLOOKUP($A11,$N$5:$U$375,6,FALSE) -> #N/A | G11: =VLOOKUP($A11,$N$5:$U$375,7,FALSE) -> #N/A | H11: =IF(B11>C11,"Long","Short") -> #N/A | I11: κλείσιμο μέρας | N11: ADMHE | O11: 4.47 | P11: 4.105 | Q11: 9 | R11: N/A | S11: 4.52 | T11: N/A | U11: ΑΔΜΗΕ | V11: C:\Data_4trader\Metoxes_ASE
A12: AGKRI | B12: =VLOOKUP($A12,$N$5:$U$375,2,FALSE) -> #N/A | C12: =VLOOKUP($A12,$N$5:$U$375,3,FALSE) -> #N/A | D12: =VLOOKUP($A12,$N$5:$U$375,4,FALSE) -> #N/A | E12: =VLOOKUP($A12,$N$5:$U$375,5,FALSE) -> #N/A | F12: =VLOOKUP($A12,$N$5:$U$375,6,FALSE) -> #N/A | G12: =VLOOKUP($A12,$N$5:$U$375,7,FALSE) -> #N/A | H12: =IF(B12>C12,"Long","Short") -> #N/A | I12: stop loss σε κλείσιμο μέρας | N12: AEM | O12: 6.37 | P12: 6.23 | Q12: 20 | R12: N/A | S12: 6.79 | T12: N/A | U12: AEM | V12: C:\Data_4trader\Metoxes_ASE
A13: AIOLK | B13: =VLOOKUP($A13,$N$5:$U$375,2,FALSE) -> #N/A | C13: =VLOOKUP($A13,$N$5:$U$375,3,FALSE) -> #N/A | D13: =VLOOKUP($A13,$N$5:$U$375,4,FALSE) -> #N/A | E13: =VLOOKUP($A13,$N$5:$U$375,5,FALSE) -> #N/A | F13: =VLOOKUP($A13,$N$5:$U$375,6,FALSE) -> #N/A | G13: =VLOOKUP($A13,$N$5:$U$375,7,FALSE) -> #N/A | H13: =IF(B13>C13,"Long","Short") -> #N/A | I13: πόσες μέρες είναι-ηταν long από το τελευταίο σήμα | N13: AKRIT | O13: 1.08 | P13: N/A | Q13: N/A | R13: N/A | S13: N/A | T13: N/A | U13: ΑΚΡΙΤ | V13: C:\Data_4trader\Metoxes_ASE
A14: AKRIT | B14: =VLOOKUP($A14,$N$5:$U$375,2,FALSE) -> 1.08 | C14: =VLOOKUP($A14,$N$5:$U$375,3,FALSE) -> N/A | D14: =VLOOKUP($A14,$N$5:$U$375,4,FALSE) -> N/A | E14: =VLOOKUP($A14,$N$5:$U$375,5,FALSE) -> N/A | F14: =VLOOKUP($A14,$N$5:$U$375,6,FALSE) -> N/A | G14: =VLOOKUP($A14,$N$5:$U$375,7,FALSE) -> N/A | H14: =IF(B14>C14,"Long","Short") -> Short | I14: πόσες μέρες είναι-ηταν short από το τελευταίο σήμα | N14: AKTOR | O14: 10.26 | P14: 9.68 | Q14: 13 | R14: 35 | S14: 9.84 | T14: 10.02 | U14: AKTR | V14: C:\Data_4trader\Metoxes_ASE
A15: ALAPIS | B15: =VLOOKUP($A15,$N$5:$U$375,2,FALSE) -> #N/A | C15: =VLOOKUP($A15,$N$5:$U$375,3,FALSE) -> #N/A | D15: =VLOOKUP($A15,$N$5:$U$375,4,FALSE) -> #N/A | E15: =VLOOKUP($A15,$N$5:$U$375,5,FALSE) -> #N/A | F15: =VLOOKUP($A15,$N$5:$U$375,6,FALSE) -> #N/A | G15: =VLOOKUP($A15,$N$5:$U$375,7,FALSE) -> #N/A | H15: =IF(B15>C15,"Long","Short") -> #N/A | I15: σε ποια τιμή μπήκε Long στο τελευταίο σήμα | N15: ALMY | O15: 5.59 | P15: 5.16 | Q15: 3 | R15: 17 | S15: 5.5 | T15: 5.46 | U15: ΑΛΜΥ | V15: C:\Data_4trader\Metoxes_ASE
A16: ALPHA | B16: =VLOOKUP($A16,$N$5:$U$375,2,FALSE) -> 4.495 | C16: =VLOOKUP($A16,$N$5:$U$375,3,FALSE) -> 4.004 | D16: =VLOOKUP($A16,$N$5:$U$375,4,FALSE) -> 1 | E16: =VLOOKUP($A16,$N$5:$U$375,5,FALSE) -> 4 | F16: =VLOOKUP($A16,$N$5:$U$375,6,FALSE) -> 4.515 | G16: =VLOOKUP($A16,$N$5:$U$375,7,FALSE) -> 4.098 | H16: =IF(B16>C16,"Long","Short") -> Long | I16: σε ποια τιμή μπήκε short στο τελευταίο σήμα | N16: ALPHA | O16: 4.495 | P16: 4.004 | Q16: 1 | R16: 4 | S16: 4.515 | T16: 4.098 | U16: ΑΛΦΑ | V16: C:\Data_4trader\Metoxes_ASE
A17: ALFATP | B17: =VLOOKUP($A17,$N$5:$U$375,2,FALSE) -> #N/A | C17: =VLOOKUP($A17,$N$5:$U$375,3,FALSE) -> #N/A | D17: =VLOOKUP($A17,$N$5:$U$375,4,FALSE) -> #N/A | E17: =VLOOKUP($A17,$N$5:$U$375,5,FALSE) -> #N/A | F17: =VLOOKUP($A17,$N$5:$U$375,6,FALSE) -> #N/A | G17: =VLOOKUP($A17,$N$5:$U$375,7,FALSE) -> #N/A | H17: =IF(B17>C17,"Long","Short") -> #N/A | N17: ALWN | O17: 11.355 | P17: 12.48 | Q17: 14 | R17: 3 | S17: 12.1 | T17: 11.1 | U17: ALWN | V17: C:\Data_4trader\Metoxes_ASE
A18: ALKAT | B18: =VLOOKUP($A18,$N$5:$U$375,2,FALSE) -> #N/A | C18: =VLOOKUP($A18,$N$5:$U$375,3,FALSE) -> #N/A | D18: =VLOOKUP($A18,$N$5:$U$375,4,FALSE) -> #N/A | E18: =VLOOKUP($A18,$N$5:$U$375,5,FALSE) -> #N/A | F18: =VLOOKUP($A18,$N$5:$U$375,6,FALSE) -> #N/A | G18: =VLOOKUP($A18,$N$5:$U$375,7,FALSE) -> #N/A | H18: =IF(B18>C18,"Long","Short") -> #N/A | N18: ANDRO | O18: 8.1 | P18: 7.92 | Q18: 22 | R18: 30 | S18: 8.64 | T18: 8.56 | U18: ΑΝΔΡΟ | V18: C:\Data_4trader\Metoxes_ASE
A19: ALKO | B19: =VLOOKUP($A19,$N$5:$U$375,2,FALSE) -> #N/A | C19: =VLOOKUP($A19,$N$5:$U$375,3,FALSE) -> #N/A | D19: =VLOOKUP($A19,$N$5:$U$375,4,FALSE) -> #N/A | E19: =VLOOKUP($A19,$N$5:$U$375,5,FALSE) -> #N/A | F19: =VLOOKUP($A19,$N$5:$U$375,6,FALSE) -> #N/A | G19: =VLOOKUP($A19,$N$5:$U$375,7,FALSE) -> #N/A | H19: =IF(B19>C19,"Long","Short") -> #N/A | N19: ARAIG | O19: 10.8 | P19: 11.2 | Q19: N/A | R19: N/A | S19: N/A | T19: N/A | U19: ΑΡΑΙΓ | V19: C:\Data_4trader\Metoxes_ASE
A20: ALMY | B20: =VLOOKUP($A20,$N$5:$U$375,2,FALSE) -> 5.59 | C20: =VLOOKUP($A20,$N$5:$U$375,3,FALSE) -> 5.16 | D20: =VLOOKUP($A20,$N$5:$U$375,4,FALSE) -> 3 | E20: =VLOOKUP($A20,$N$5:$U$375,5,FALSE) -> 17 | F20: =VLOOKUP($A20,$N$5:$U$375,6,FALSE) -> 5.5 | G20: =VLOOKUP($A20,$N$5:$U$375,7,FALSE) -> 5.46 | H20: =IF(B20>C20,"Long","Short") -> Long | N20: ASKO | O20: 4.55 | P20: 4.3 | Q20: 3 | R20: 13 | S20: 4.52 | T20: 4.335 | U20: ΑΣΚΟ | V20: C:\Data_4trader\Metoxes_ASE
A21: ALSIN | B21: =VLOOKUP($A21,$N$5:$U$375,2,FALSE) -> #N/A | C21: =VLOOKUP($A21,$N$5:$U$375,3,FALSE) -> #N/A | D21: =VLOOKUP($A21,$N$5:$U$375,4,FALSE) -> #N/A | E21: =VLOOKUP($A21,$N$5:$U$375,5,FALSE) -> #N/A | F21: =VLOOKUP($A21,$N$5:$U$375,6,FALSE) -> #N/A | G21: =VLOOKUP($A21,$N$5:$U$375,7,FALSE) -> #N/A | H21: =IF(B21>C21,"Long","Short") -> #N/A | N21: ASTAK | O21: 7 | P21: 7.25 | Q21: N/A | R21: N/A | S21: N/A | T21: N/A | U21: ΑΣΤΑΚ | V21: C:\Data_4trader\Metoxes_ASE
A22: ALTEK | B22: =VLOOKUP($A22,$N$5:$U$375,2,FALSE) -> #N/A | C22: =VLOOKUP($A22,$N$5:$U$375,3,FALSE) -> #N/A | D22: =VLOOKUP($A22,$N$5:$U$375,4,FALSE) -> #N/A | E22: =VLOOKUP($A22,$N$5:$U$375,5,FALSE) -> #N/A | F22: =VLOOKUP($A22,$N$5:$U$375,6,FALSE) -> #N/A | G22: =VLOOKUP($A22,$N$5:$U$375,7,FALSE) -> #N/A | H22: =IF(B22>C22,"Long","Short") -> #N/A | N22: ATEK | O22: 1.03 | P22: N/A | Q22: N/A | R22: N/A | S22: N/A | T22: N/A | U22: ΑΤΕΚ | V22: C:\Data_4trader\Metoxes_ASE
A23: ALTER | B23: =VLOOKUP($A23,$N$5:$U$375,2,FALSE) -> #N/A | C23: =VLOOKUP($A23,$N$5:$U$375,3,FALSE) -> #N/A | D23: =VLOOKUP($A23,$N$5:$U$375,4,FALSE) -> #N/A | E23: =VLOOKUP($A23,$N$5:$U$375,5,FALSE) -> #N/A | F23: =VLOOKUP($A23,$N$5:$U$375,6,FALSE) -> #N/A | G23: =VLOOKUP($A23,$N$5:$U$375,7,FALSE) -> #N/A | H23: =IF(B23>C23,"Long","Short") -> #N/A | N23: ATHEX_ESG | O23: 3124.0801 | P23: 3154.25 | Q23: N/A | R23: 15 | S23: N/A | T23: 3063.1299 | U23: ATHEX_ESG | V23: C:\Data_4trader\Metoxes_ASE
A24: ANDRO | B24: =VLOOKUP($A24,$N$5:$U$375,2,FALSE) -> 8.1 | C24: =VLOOKUP($A24,$N$5:$U$375,3,FALSE) -> 7.92 | D24: =VLOOKUP($A24,$N$5:$U$375,4,FALSE) -> 22 | E24: =VLOOKUP($A24,$N$5:$U$375,5,FALSE) -> 30 | F24: =VLOOKUP($A24,$N$5:$U$375,6,FALSE) -> 8.64 | G24: =VLOOKUP($A24,$N$5:$U$375,7,FALSE) -> 8.56 | H24: =IF(B24>C24,"Long","Short") -> Long | N24: ATHEX_SCI | O24: 2212.5701 | P24: 2396.4199 | Q24: N/A | R24: N/A | S24: N/A | T24: N/A | U24: ATHEX_SCI | V24: C:\Data_4trader\Metoxes_ASE
A25: ANEK | B25: =VLOOKUP($A25,$N$5:$U$375,2,FALSE) -> #N/A | C25: =VLOOKUP($A25,$N$5:$U$375,3,FALSE) -> #N/A | D25: =VLOOKUP($A25,$N$5:$U$375,4,FALSE) -> #N/A | E25: =VLOOKUP($A25,$N$5:$U$375,5,FALSE) -> #N/A | F25: =VLOOKUP($A25,$N$5:$U$375,6,FALSE) -> #N/A | G25: =VLOOKUP($A25,$N$5:$U$375,7,FALSE) -> #N/A | H25: =IF(B25>C25,"Long","Short") -> #N/A | N25: ATRAST | O25: 20.2 | P25: N/A | Q25: N/A | R25: N/A | S25: N/A | T25: N/A | U25: ΑΤΡΑΣΤ | V25: C:\Data_4trader\Metoxes_ASE
A26: ANEMOS | B26: =VLOOKUP($A26,$N$5:$U$375,2,FALSE) -> #N/A | C26: =VLOOKUP($A26,$N$5:$U$375,3,FALSE) -> #N/A | D26: =VLOOKUP($A26,$N$5:$U$375,4,FALSE) -> #N/A | E26: =VLOOKUP($A26,$N$5:$U$375,5,FALSE) -> #N/A | F26: =VLOOKUP($A26,$N$5:$U$375,6,FALSE) -> #N/A | G26: =VLOOKUP($A26,$N$5:$U$375,7,FALSE) -> #N/A | H26: =IF(B26>C26,"Long","Short") -> #N/A | N26: ATTIKA | O26: 1.4 | P26: 1.34 | Q26: 0 | R26: 41 | S26: 1.4 | T26: 1.56 | U26: ΑΤΤΙΚΑ | V26: C:\Data_4trader\Metoxes_ASE
A27: ANEP | B27: =VLOOKUP($A27,$N$5:$U$375,2,FALSE) -> #N/A | C27: =VLOOKUP($A27,$N$5:$U$375,3,FALSE) -> #N/A | D27: =VLOOKUP($A27,$N$5:$U$375,4,FALSE) -> #N/A | E27: =VLOOKUP($A27,$N$5:$U$375,5,FALSE) -> #N/A | F27: =VLOOKUP($A27,$N$5:$U$375,6,FALSE) -> #N/A | G27: =VLOOKUP($A27,$N$5:$U$375,7,FALSE) -> #N/A | H27: =IF(B27>C27,"Long","Short") -> #N/A | N27: BINTA | O27: 9.55 | P27: 9.5 | Q27: N/A | R27: N/A | S27: N/A | T27: N/A | U27: ΒΙΝΤΑ | V27: C:\Data_4trader\Metoxes_ASE
A28: ANEPO | B28: =VLOOKUP($A28,$N$5:$U$375,2,FALSE) -> #N/A | C28: =VLOOKUP($A28,$N$5:$U$375,3,FALSE) -> #N/A | D28: =VLOOKUP($A28,$N$5:$U$375,4,FALSE) -> #N/A | E28: =VLOOKUP($A28,$N$5:$U$375,5,FALSE) -> #N/A | F28: =VLOOKUP($A28,$N$5:$U$375,6,FALSE) -> #N/A | G28: =VLOOKUP($A28,$N$5:$U$375,7,FALSE) -> #N/A | H28: =IF(B28>C28,"Long","Short") -> #N/A | N28: BIO | O28: 15.34 | P28: 15.9 | Q28: 23 | R28: 15 | S28: 17.6 | T28: 16.46 | U28: ΒΙΟ | V28: C:\Data_4trader\Metoxes_ASE
A29: ARAIG | B29: =VLOOKUP($A29,$N$5:$U$375,2,FALSE) -> 10.8 | C29: =VLOOKUP($A29,$N$5:$U$375,3,FALSE) -> 11.2 | D29: =VLOOKUP($A29,$N$5:$U$375,4,FALSE) -> N/A | E29: =VLOOKUP($A29,$N$5:$U$375,5,FALSE) -> N/A | F29: =VLOOKUP($A29,$N$5:$U$375,6,FALSE) -> N/A | G29: =VLOOKUP($A29,$N$5:$U$375,7,FALSE) -> N/A | H29: =IF(B29>C29,"Long","Short") -> Short | N29: BIOKA | O29: 1.52 | P29: 1.44 | Q29: 0 | R29: N/A | S29: 1.52 | T29: N/A | U29: ΒΙΟΚΑ | V29: C:\Data_4trader\Metoxes_ASE
A30: ARBA | B30: =VLOOKUP($A30,$N$5:$U$375,2,FALSE) -> #N/A | C30: =VLOOKUP($A30,$N$5:$U$375,3,FALSE) -> #N/A | D30: =VLOOKUP($A30,$N$5:$U$375,4,FALSE) -> #N/A | E30: =VLOOKUP($A30,$N$5:$U$375,5,FALSE) -> #N/A | F30: =VLOOKUP($A30,$N$5:$U$375,6,FALSE) -> #N/A | G30: =VLOOKUP($A30,$N$5:$U$375,7,FALSE) -> #N/A | H30: =IF(B30>C30,"Long","Short") -> #N/A | N30: BIOSK | O30: 2.04 | P30: 2.11 | Q30: N/A | R30: 44 | S30: N/A | T30: 2.755 | U30: ΒΙΟΣΚ | V30: C:\Data_4trader\Metoxes_ASE
A31: ASKO | B31: =VLOOKUP($A31,$N$5:$U$375,2,FALSE) -> 4.55 | C31: =VLOOKUP($A31,$N$5:$U$375,3,FALSE) -> 4.3 | D31: =VLOOKUP($A31,$N$5:$U$375,4,FALSE) -> 3 | E31: =VLOOKUP($A31,$N$5:$U$375,5,FALSE) -> 13 | F31: =VLOOKUP($A31,$N$5:$U$375,6,FALSE) -> 4.52 | G31: =VLOOKUP($A31,$N$5:$U$375,7,FALSE) -> 4.335 | H31: =IF(B31>C31,"Long","Short") -> Long | N31: BIOT | O31: 0.206 | P31: N/A | Q31: N/A | R31: N/A | S31: N/A | T31: N/A | U31: ΒΙΟΤ | V31: C:\Data_4trader\Metoxes_ASE
A32: ASTAK | B32: =VLOOKUP($A32,$N$5:$U$375,2,FALSE) -> 7 | C32: =VLOOKUP($A32,$N$5:$U$375,3,FALSE) -> 7.25 | D32: =VLOOKUP($A32,$N$5:$U$375,4,FALSE) -> N/A | E32: =VLOOKUP($A32,$N$5:$U$375,5,FALSE) -> N/A | F32: =VLOOKUP($A32,$N$5:$U$375,6,FALSE) -> N/A | G32: =VLOOKUP($A32,$N$5:$U$375,7,FALSE) -> N/A | H32: =IF(B32>C32,"Long","Short") -> Short | N32: BOCHGR | O32: 10.47 | P32: 9.93 | Q32: 1 | R32: 4 | S32: 10.69 | T32: 10.1 | U32: BOCHGR | V32: C:\Data_4trader\Metoxes_ASE
A33: ASTHR | B33: =VLOOKUP($A33,$N$5:$U$375,2,FALSE) -> #N/A | C33: =VLOOKUP($A33,$N$5:$U$375,3,FALSE) -> #N/A | D33: =VLOOKUP($A33,$N$5:$U$375,4,FALSE) -> #N/A | E33: =VLOOKUP($A33,$N$5:$U$375,5,FALSE) -> #N/A | F33: =VLOOKUP($A33,$N$5:$U$375,6,FALSE) -> #N/A | G33: =VLOOKUP($A33,$N$5:$U$375,7,FALSE) -> #N/A | H33: =IF(B33>C33,"Long","Short") -> #N/A | N33: BOSYS | O33: 1.86 | P33: 1.955 | Q33: 17 | R33: 12 | S33: 2.03 | T33: 1.91 | U33: ΒΟΣΥΣ | V33: C:\Data_4trader\Metoxes_ASE
A34: ATE | B34: =VLOOKUP($A34,$N$5:$U$375,2,FALSE) -> #N/A | C34: =VLOOKUP($A34,$N$5:$U$375,3,FALSE) -> #N/A | D34: =VLOOKUP($A34,$N$5:$U$375,4,FALSE) -> #N/A | E34: =VLOOKUP($A34,$N$5:$U$375,5,FALSE) -> #N/A | F34: =VLOOKUP($A34,$N$5:$U$375,6,FALSE) -> #N/A | G34: =VLOOKUP($A34,$N$5:$U$375,7,FALSE) -> #N/A | H34: =IF(B34>C34,"Long","Short") -> #N/A | N34: BYLOT | O34: 1.114 | P34: 1.094 | Q34: 25 | R34: N/A | S34: 1.12 | T34: N/A | U34: BYLOT | V34: C:\Data_4trader\Metoxes_ASE
A35: ATEK | B35: =VLOOKUP($A35,$N$5:$U$375,2,FALSE) -> 1.03 | C35: =VLOOKUP($A35,$N$5:$U$375,3,FALSE) -> N/A | D35: =VLOOKUP($A35,$N$5:$U$375,4,FALSE) -> N/A | E35: =VLOOKUP($A35,$N$5:$U$375,5,FALSE) -> N/A | F35: =VLOOKUP($A35,$N$5:$U$375,6,FALSE) -> N/A | G35: =VLOOKUP($A35,$N$5:$U$375,7,FALSE) -> N/A | H35: =IF(B35>C35,"Long","Short") -> Short | N35: CENER | O35: 22.4 | P35: 22.72 | Q35: 23 | R35: 15 | S35: 24.3 | T35: 22.9 | U35: CENER | V35: C:\Data_4trader\Metoxes_ASE
A36: ATERM | B36: =VLOOKUP($A36,$N$5:$U$375,2,FALSE) -> #N/A | C36: =VLOOKUP($A36,$N$5:$U$375,3,FALSE) -> #N/A | D36: =VLOOKUP($A36,$N$5:$U$375,4,FALSE) -> #N/A | E36: =VLOOKUP($A36,$N$5:$U$375,5,FALSE) -> #N/A | F36: =VLOOKUP($A36,$N$5:$U$375,6,FALSE) -> #N/A | G36: =VLOOKUP($A36,$N$5:$U$375,7,FALSE) -> #N/A | H36: =IF(B36>C36,"Long","Short") -> #N/A | N36: CNLCAP | O36: 7.55 | P36: 7.5 | Q36: 11 | R36: N/A | S36: 7.6 | T36: N/A | U36: CNLCAP | V36: C:\Data_4trader\Metoxes_ASE
A37: ATHINA | B37: =VLOOKUP($A37,$N$5:$U$375,2,FALSE) -> #N/A | C37: =VLOOKUP($A37,$N$5:$U$375,3,FALSE) -> #N/A | D37: =VLOOKUP($A37,$N$5:$U$375,4,FALSE) -> #N/A | E37: =VLOOKUP($A37,$N$5:$U$375,5,FALSE) -> #N/A | F37: =VLOOKUP($A37,$N$5:$U$375,6,FALSE) -> #N/A | G37: =VLOOKUP($A37,$N$5:$U$375,7,FALSE) -> #N/A | H37: =IF(B37>C37,"Long","Short") -> #N/A | N37: CREDIA | O37: 0.94 | P37: 0.907 | Q37: 6 | R37: 15 | S37: 0.969 | T37: 0.908 | U37: CREDIA | V37: C:\Data_4trader\Metoxes_ASE
A38: ATLA | B38: =VLOOKUP($A38,$N$5:$U$375,2,FALSE) -> #N/A | C38: =VLOOKUP($A38,$N$5:$U$375,3,FALSE) -> #N/A | D38: =VLOOKUP($A38,$N$5:$U$375,4,FALSE) -> #N/A | E38: =VLOOKUP($A38,$N$5:$U$375,5,FALSE) -> #N/A | F38: =VLOOKUP($A38,$N$5:$U$375,6,FALSE) -> #N/A | G38: =VLOOKUP($A38,$N$5:$U$375,7,FALSE) -> #N/A | H38: =IF(B38>C38,"Long","Short") -> #N/A | N38: DAA | O38: 12.21 | P38: 11.9 | Q38: N/A | R38: N/A | S38: N/A | T38: N/A | U38: ΔΑΑ | V38: C:\Data_4trader\Metoxes_ASE
A39: ATRAST | B39: =VLOOKUP($A39,$N$5:$U$375,2,FALSE) -> 20.2 | C39: =VLOOKUP($A39,$N$5:$U$375,3,FALSE) -> N/A | D39: =VLOOKUP($A39,$N$5:$U$375,4,FALSE) -> N/A | E39: =VLOOKUP($A39,$N$5:$U$375,5,FALSE) -> N/A | F39: =VLOOKUP($A39,$N$5:$U$375,6,FALSE) -> N/A | G39: =VLOOKUP($A39,$N$5:$U$375,7,FALSE) -> N/A | H39: =IF(B39>C39,"Long","Short") -> Short | N39: DAIOS | O39: 7.2 | P39: 8 | Q39: N/A | R39: N/A | S39: N/A | T39: N/A | U39: ΔΑΙΟΣ | V39: C:\Data_4trader\Metoxes_ASE
A40: ATT | B40: =VLOOKUP($A40,$N$5:$U$375,2,FALSE) -> #N/A | C40: =VLOOKUP($A40,$N$5:$U$375,3,FALSE) -> #N/A | D40: =VLOOKUP($A40,$N$5:$U$375,4,FALSE) -> #N/A | E40: =VLOOKUP($A40,$N$5:$U$375,5,FALSE) -> #N/A | F40: =VLOOKUP($A40,$N$5:$U$375,6,FALSE) -> #N/A | G40: =VLOOKUP($A40,$N$5:$U$375,7,FALSE) -> #N/A | H40: =IF(B40>C40,"Long","Short") -> #N/A | N40: DEA | O40: 16466.75 | P40: 15717.66 | Q40: 6 | R40: 39 | S40: 17143.1 | T40: 16334.17 | U40: ΔΕΑ | V40: C:\Data_4trader\Metoxes_ASE
A41: ATTIK | B41: =VLOOKUP($A41,$N$5:$U$375,2,FALSE) -> #N/A | C41: =VLOOKUP($A41,$N$5:$U$375,3,FALSE) -> #N/A | D41: =VLOOKUP($A41,$N$5:$U$375,4,FALSE) -> #N/A | E41: =VLOOKUP($A41,$N$5:$U$375,5,FALSE) -> #N/A | F41: =VLOOKUP($A41,$N$5:$U$375,6,FALSE) -> #N/A | G41: =VLOOKUP($A41,$N$5:$U$375,7,FALSE) -> #N/A | H41: =IF(B41>C41,"Long","Short") -> #N/A | N41: DEH | O41: 23.14 | P41: 22.12 | Q41: 1 | R41: 25 | S41: 23.38 | T41: 22.94 | U41: ΔΕΗ | V41: C:\Data_4trader\Metoxes_ASE
A42: ATTIKA | B42: =VLOOKUP($A42,$N$5:$U$375,2,FALSE) -> 1.4 | C42: =VLOOKUP($A42,$N$5:$U$375,3,FALSE) -> 1.34 | D42: =VLOOKUP($A42,$N$5:$U$375,4,FALSE) -> 0 | E42: =VLOOKUP($A42,$N$5:$U$375,5,FALSE) -> 41 | F42: =VLOOKUP($A42,$N$5:$U$375,6,FALSE) -> 1.4 | G42: =VLOOKUP($A42,$N$5:$U$375,7,FALSE) -> 1.56 | H42: =IF(B42>C42,"Long","Short") -> Long | N42: DIMAND | O42: 14 | P42: 13.7 | Q42: N/A | R42: N/A | S42: N/A | T42: N/A | U42: DIMAND | V42: C:\Data_4trader\Metoxes_ASE
A43: AXON | B43: =VLOOKUP($A43,$N$5:$U$375,2,FALSE) -> #N/A | C43: =VLOOKUP($A43,$N$5:$U$375,3,FALSE) -> #N/A | D43: =VLOOKUP($A43,$N$5:$U$375,4,FALSE) -> #N/A | E43: =VLOOKUP($A43,$N$5:$U$375,5,FALSE) -> #N/A | F43: =VLOOKUP($A43,$N$5:$U$375,6,FALSE) -> #N/A | G43: =VLOOKUP($A43,$N$5:$U$375,7,FALSE) -> #N/A | H43: =IF(B43>C43,"Long","Short") -> #N/A | N43: DOM | O43: 560.71 | P43: N/A | Q43: N/A | R43: N/A | S43: N/A | T43: N/A | U43: ΔΟΜ | V43: C:\Data_4trader\Metoxes_ASE
A44: BALK | B44: =VLOOKUP($A44,$N$5:$U$375,2,FALSE) -> #N/A | C44: =VLOOKUP($A44,$N$5:$U$375,3,FALSE) -> #N/A | D44: =VLOOKUP($A44,$N$5:$U$375,4,FALSE) -> #N/A | E44: =VLOOKUP($A44,$N$5:$U$375,5,FALSE) -> #N/A | F44: =VLOOKUP($A44,$N$5:$U$375,6,FALSE) -> #N/A | G44: =VLOOKUP($A44,$N$5:$U$375,7,FALSE) -> #N/A | H44: =IF(B44>C44,"Long","Short") -> #N/A | N44: DOMIK | O44: 2.39 | P44: 2.78 | Q44: N/A | R44: 19 | S44: N/A | T44: 2.56 | U44: ΔΟΜΙΚ | V44: C:\Data_4trader\Metoxes_ASE
A45: BARG | B45: =VLOOKUP($A45,$N$5:$U$375,2,FALSE) -> #N/A | C45: =VLOOKUP($A45,$N$5:$U$375,3,FALSE) -> #N/A | D45: =VLOOKUP($A45,$N$5:$U$375,4,FALSE) -> #N/A | E45: =VLOOKUP($A45,$N$5:$U$375,5,FALSE) -> #N/A | F45: =VLOOKUP($A45,$N$5:$U$375,6,FALSE) -> #N/A | G45: =VLOOKUP($A45,$N$5:$U$375,7,FALSE) -> #N/A | H45: =IF(B45>C45,"Long","Short") -> #N/A | N45: DOYRO | O45: 0.25 | P45: N/A | Q45: N/A | R45: N/A | S45: N/A | T45: N/A | U45: ΔΟΥΡΟ | V45: C:\Data_4trader\Metoxes_ASE
A46: BARNH | B46: =VLOOKUP($A46,$N$5:$U$375,2,FALSE) -> #N/A | C46: =VLOOKUP($A46,$N$5:$U$375,3,FALSE) -> #N/A | D46: =VLOOKUP($A46,$N$5:$U$375,4,FALSE) -> #N/A | E46: =VLOOKUP($A46,$N$5:$U$375,5,FALSE) -> #N/A | F46: =VLOOKUP($A46,$N$5:$U$375,6,FALSE) -> #N/A | G46: =VLOOKUP($A46,$N$5:$U$375,7,FALSE) -> #N/A | H46: =IF(B46>C46,"Long","Short") -> #N/A | N46: DROME | O46: 0.286 | P46: 0.307 | Q46: 12 | R46: 5 | S46: 0.303 | T46: 0.279 | U46: ΔΡΟΜΕ | V46: C:\Data_4trader\Metoxes_ASE
A47: BETAN | B47: =VLOOKUP($A47,$N$5:$U$375,2,FALSE) -> #N/A | C47: =VLOOKUP($A47,$N$5:$U$375,3,FALSE) -> #N/A | D47: =VLOOKUP($A47,$N$5:$U$375,4,FALSE) -> #N/A | E47: =VLOOKUP($A47,$N$5:$U$375,5,FALSE) -> #N/A | F47: =VLOOKUP($A47,$N$5:$U$375,6,FALSE) -> #N/A | G47: =VLOOKUP($A47,$N$5:$U$375,7,FALSE) -> #N/A | H47: =IF(B47>C47,"Long","Short") -> #N/A | N47: DTR | O47: 3023.75 | P47: 3104.22 | Q47: 6 | R47: 4 | S47: 3102.3301 | T47: 2832.5 | U47: ΔΤΡ | V47: C:\Data_4trader\Metoxes_ASE
A48: BINTA | B48: =VLOOKUP($A48,$N$5:$U$375,2,FALSE) -> 9.55 | C48: =VLOOKUP($A48,$N$5:$U$375,3,FALSE) -> 9.5 | D48: =VLOOKUP($A48,$N$5:$U$375,4,FALSE) -> N/A | E48: =VLOOKUP($A48,$N$5:$U$375,5,FALSE) -> N/A | F48: =VLOOKUP($A48,$N$5:$U$375,6,FALSE) -> N/A | G48: =VLOOKUP($A48,$N$5:$U$375,7,FALSE) -> N/A | H48: =IF(B48>C48,"Long","Short") -> Long | N48: EADAK | O48: 66.92 | P48: 64.19 | Q48: 2 | R48: 15 | S48: 68.43 | T48: 66.16 | U48: ΕΑΔΑΚ | V48: C:\Data_4trader\Metoxes_ASE
A49: BIO | B49: =VLOOKUP($A49,$N$5:$U$375,2,FALSE) -> 15.34 | C49: =VLOOKUP($A49,$N$5:$U$375,3,FALSE) -> 15.9 | D49: =VLOOKUP($A49,$N$5:$U$375,4,FALSE) -> 23 | E49: =VLOOKUP($A49,$N$5:$U$375,5,FALSE) -> 15 | F49: =VLOOKUP($A49,$N$5:$U$375,6,FALSE) -> 17.6 | G49: =VLOOKUP($A49,$N$5:$U$375,7,FALSE) -> 16.46 | H49: =IF(B49>C49,"Long","Short") -> Short | N49: EBROF | O49: 3.68 | P49: 3.77 | Q49: N/A | R49: 33 | S49: N/A | T49: 3.89 | U49: ΕΒΡΟΦ | V49: C:\Data_4trader\Metoxes_ASE
A50: BIOKA | B50: =VLOOKUP($A50,$N$5:$U$375,2,FALSE) -> 1.52 | C50: =VLOOKUP($A50,$N$5:$U$375,3,FALSE) -> 1.44 | D50: =VLOOKUP($A50,$N$5:$U$375,4,FALSE) -> 0 | E50: =VLOOKUP($A50,$N$5:$U$375,5,FALSE) -> N/A | F50: =VLOOKUP($A50,$N$5:$U$375,6,FALSE) -> 1.52 | G50: =VLOOKUP($A50,$N$5:$U$375,7,FALSE) -> N/A | H50: =IF(B50>C50,"Long","Short") -> Long | N50: EEE | O50: 56.1 | P50: 49.65 | Q50: 10 | R50: 29 | S50: 52.6 | T50: 50.6 | U50: ΕΕΕ | V50: C:\Data_4trader\Metoxes_ASE
A51: BIOSK | B51: =VLOOKUP($A51,$N$5:$U$375,2,FALSE) -> 2.04 | C51: =VLOOKUP($A51,$N$5:$U$375,3,FALSE) -> 2.11 | D51: =VLOOKUP($A51,$N$5:$U$375,4,FALSE) -> N/A | E51: =VLOOKUP($A51,$N$5:$U$375,5,FALSE) -> 44 | F51: =VLOOKUP($A51,$N$5:$U$375,6,FALSE) -> N/A | G51: =VLOOKUP($A51,$N$5:$U$375,7,FALSE) -> 2.755 | H51: =IF(B51>C51,"Long","Short") -> Short | N51: EIS | O51: 1.738 | P51: 1.834 | Q51: 29 | R51: 15 | S51: 1.936 | T51: 1.81 | U51: EIS | V51: C:\Data_4trader\Metoxes_ASE
A52: BIOT | B52: =VLOOKUP($A52,$N$5:$U$375,2,FALSE) -> 0.206 | C52: =VLOOKUP($A52,$N$5:$U$375,3,FALSE) -> N/A | D52: =VLOOKUP($A52,$N$5:$U$375,4,FALSE) -> N/A | E52: =VLOOKUP($A52,$N$5:$U$375,5,FALSE) -> N/A | F52: =VLOOKUP($A52,$N$5:$U$375,6,FALSE) -> N/A | G52: =VLOOKUP($A52,$N$5:$U$375,7,FALSE) -> N/A | H52: =IF(B52>C52,"Long","Short") -> Short | N52: EKTER | O52: 4.65 | P52: 4.73 | Q52: 34 | R52: 31 | S52: 5.2 | T52: 4.82 | U52: ΕΚΤΕΡ | V52: C:\Data_4trader\Metoxes_ASE
A53: BIS | B53: =VLOOKUP($A53,$N$5:$U$375,2,FALSE) -> #N/A | C53: =VLOOKUP($A53,$N$5:$U$375,3,FALSE) -> #N/A | D53: =VLOOKUP($A53,$N$5:$U$375,4,FALSE) -> #N/A | E53: =VLOOKUP($A53,$N$5:$U$375,5,FALSE) -> #N/A | F53: =VLOOKUP($A53,$N$5:$U$375,6,FALSE) -> #N/A | G53: =VLOOKUP($A53,$N$5:$U$375,7,FALSE) -> #N/A | H53: =IF(B53>C53,"Long","Short") -> #N/A | N53: ELBE | O53: 7.2 | P53: 7.75 | Q53: N/A | R53: 10 | S53: N/A | T53: 7.55 | U53: ΕΛΒΕ | V53: C:\Data_4trader\Metoxes_ASE
A54: BOBOS | B54: =VLOOKUP($A54,$N$5:$U$375,2,FALSE) -> #N/A | C54: =VLOOKUP($A54,$N$5:$U$375,3,FALSE) -> #N/A | D54: =VLOOKUP($A54,$N$5:$U$375,4,FALSE) -> #N/A | E54: =VLOOKUP($A54,$N$5:$U$375,5,FALSE) -> #N/A | F54: =VLOOKUP($A54,$N$5:$U$375,6,FALSE) -> #N/A | G54: =VLOOKUP($A54,$N$5:$U$375,7,FALSE) -> #N/A | H54: =IF(B54>C54,"Long","Short") -> #N/A | N54: ELIN | O54: 1.9 | P54: 1.93 | Q54: N/A | R54: N/A | S54: N/A | T54: N/A | U54: ΕΛΙΝ | V54: C:\Data_4trader\Metoxes_ASE
A55: BOSYS | B55: =VLOOKUP($A55,$N$5:$U$375,2,FALSE) -> 1.86 | C55: =VLOOKUP($A55,$N$5:$U$375,3,FALSE) -> 1.955 | D55: =VLOOKUP($A55,$N$5:$U$375,4,FALSE) -> 17 | E55: =VLOOKUP($A55,$N$5:$U$375,5,FALSE) -> 12 | F55: =VLOOKUP($A55,$N$5:$U$375,6,FALSE) -> 2.03 | G55: =VLOOKUP($A55,$N$5:$U$375,7,FALSE) -> 1.91 | H55: =IF(B55>C55,"Long","Short") -> Short | N55: ELL | O55: 14.85 | P55: N/A | Q55: N/A | R55: N/A | S55: N/A | T55: N/A | U55: ΕΛΛ | V55: C:\Data_4trader\Metoxes_ASE
A56: BOX | B56: =VLOOKUP($A56,$N$5:$U$375,2,FALSE) -> #N/A | C56: =VLOOKUP($A56,$N$5:$U$375,3,FALSE) -> #N/A | D56: =VLOOKUP($A56,$N$5:$U$375,4,FALSE) -> #N/A | E56: =VLOOKUP($A56,$N$5:$U$375,5,FALSE) -> #N/A | F56: =VLOOKUP($A56,$N$5:$U$375,6,FALSE) -> #N/A | G56: =VLOOKUP($A56,$N$5:$U$375,7,FALSE) -> #N/A | H56: =IF(B56>C56,"Long","Short") -> #N/A | N56: ELLAKTOR | O56: 1.23 | P56: 1.278 | Q56: 31 | R56: 15 | S56: 1.308 | T56: 1.25 | U56: ΕΛΛΑΚΤΩΡ | V56: C:\Data_4trader\Metoxes_ASE
A57: BYTE | B57: =VLOOKUP($A57,$N$5:$U$375,2,FALSE) -> #N/A | C57: =VLOOKUP($A57,$N$5:$U$375,3,FALSE) -> #N/A | D57: =VLOOKUP($A57,$N$5:$U$375,4,FALSE) -> #N/A | E57: =VLOOKUP($A57,$N$5:$U$375,5,FALSE) -> #N/A | F57: =VLOOKUP($A57,$N$5:$U$375,6,FALSE) -> #N/A | G57: =VLOOKUP($A57,$N$5:$U$375,7,FALSE) -> #N/A | H57: =IF(B57>C57,"Long","Short") -> #N/A | N57: ELPE | O57: 18.1 | P57: 19.2 | Q57: 21 | R57: 1 | S57: 18.63 | T57: 17.77 | U57: ΕΛΠΕ | V57: C:\Data_4trader\Metoxes_ASE
A58: CENER | B58: =VLOOKUP($A58,$N$5:$U$375,2,FALSE) -> 22.4 | C58: =VLOOKUP($A58,$N$5:$U$375,3,FALSE) -> 22.72 | D58: =VLOOKUP($A58,$N$5:$U$375,4,FALSE) -> 23 | E58: =VLOOKUP($A58,$N$5:$U$375,5,FALSE) -> 15 | F58: =VLOOKUP($A58,$N$5:$U$375,6,FALSE) -> 24.3 | G58: =VLOOKUP($A58,$N$5:$U$375,7,FALSE) -> 22.9 | H58: =IF(B58>C58,"Long","Short") -> Short | N58: ELSTR | O58: 2.49 | P58: 2.43 | Q58: 22 | R58: N/A | S58: 2.69 | T58: N/A | U58: ΕΛΣΤΡ | V58: C:\Data_4trader\Metoxes_ASE
A59: CNLCAP | B59: =VLOOKUP($A59,$N$5:$U$375,2,FALSE) -> 7.55 | C59: =VLOOKUP($A59,$N$5:$U$375,3,FALSE) -> 7.5 | D59: =VLOOKUP($A59,$N$5:$U$375,4,FALSE) -> 11 | E59: =VLOOKUP($A59,$N$5:$U$375,5,FALSE) -> N/A | F59: =VLOOKUP($A59,$N$5:$U$375,6,FALSE) -> 7.6 | G59: =VLOOKUP($A59,$N$5:$U$375,7,FALSE) -> N/A | H59: =IF(B59>C59,"Long","Short") -> Long | N59: ELTON | O59: 1.735 | P59: 1.765 | Q59: 23 | R59: 15 | S59: 1.825 | T59: 1.69 | U59: ΕΛΤΟΝ | V59: C:\Data_4trader\Metoxes_ASE
A60: DAIOS | B60: =VLOOKUP($A60,$N$5:$U$375,2,FALSE) -> 7.2 | C60: =VLOOKUP($A60,$N$5:$U$375,3,FALSE) -> 8 | D60: =VLOOKUP($A60,$N$5:$U$375,4,FALSE) -> N/A | E60: =VLOOKUP($A60,$N$5:$U$375,5,FALSE) -> N/A | F60: =VLOOKUP($A60,$N$5:$U$375,6,FALSE) -> N/A | G60: =VLOOKUP($A60,$N$5:$U$375,7,FALSE) -> N/A | H60: =IF(B60>C60,"Long","Short") -> Short | N60: ELXA | O60: 3.515 | P60: 3.34 | Q60: 0 | R60: 16 | S60: 3.515 | T60: 3.64 | U60: ΕΛΧΑ | V60: C:\Data_4trader\Metoxes_ASE
A61: DAKET30 | B61: =VLOOKUP($A61,$N$5:$U$375,2,FALSE) -> #N/A | C61: =VLOOKUP($A61,$N$5:$U$375,3,FALSE) -> #N/A | D61: =VLOOKUP($A61,$N$5:$U$375,4,FALSE) -> #N/A | E61: =VLOOKUP($A61,$N$5:$U$375,5,FALSE) -> #N/A | F61: =VLOOKUP($A61,$N$5:$U$375,6,FALSE) -> #N/A | G61: =VLOOKUP($A61,$N$5:$U$375,7,FALSE) -> #N/A | H61: =IF(B61>C61,"Long","Short") -> #N/A | N61: EPILK | O61: 0.132 | P61: N/A | Q61: N/A | R61: N/A | S61: N/A | T61: N/A | U61: ΕΠΙΛΚ | V61: C:\Data_4trader\Metoxes_ASE
A62: DAKGD | B62: =VLOOKUP($A62,$N$5:$U$375,2,FALSE) -> #N/A | C62: =VLOOKUP($A62,$N$5:$U$375,3,FALSE) -> #N/A | D62: =VLOOKUP($A62,$N$5:$U$375,4,FALSE) -> #N/A | E62: =VLOOKUP($A62,$N$5:$U$375,5,FALSE) -> #N/A | F62: =VLOOKUP($A62,$N$5:$U$375,6,FALSE) -> #N/A | G62: =VLOOKUP($A62,$N$5:$U$375,7,FALSE) -> #N/A | H62: =IF(B62>C62,"Long","Short") -> #N/A | N62: ESYMB | O62: 1.306 | P62: 1.27 | Q62: N/A | R62: N/A | S62: N/A | T62: N/A | U62: ΕΣΥΜΒ | V62: C:\Data_4trader\Metoxes_ASE
A63: DAS | B63: =VLOOKUP($A63,$N$5:$U$375,2,FALSE) -> #N/A | C63: =VLOOKUP($A63,$N$5:$U$375,3,FALSE) -> #N/A | D63: =VLOOKUP($A63,$N$5:$U$375,4,FALSE) -> #N/A | E63: =VLOOKUP($A63,$N$5:$U$375,5,FALSE) -> #N/A | F63: =VLOOKUP($A63,$N$5:$U$375,6,FALSE) -> #N/A | G63: =VLOOKUP($A63,$N$5:$U$375,7,FALSE) -> #N/A | H63: =IF(B63>C63,"Long","Short") -> #N/A | N63: ETE | O63: 15.735 | P63: 16.57 | Q63: 23 | R63: 16 | S63: 17.8 | T63: 16.715 | U63: ΕΤΕ | V63: C:\Data_4trader\Metoxes_ASE
A64: DEH | B64: =VLOOKUP($A64,$N$5:$U$375,2,FALSE) -> 23.14 | C64: =VLOOKUP($A64,$N$5:$U$375,3,FALSE) -> 22.12 | D64: =VLOOKUP($A64,$N$5:$U$375,4,FALSE) -> 1 | E64: =VLOOKUP($A64,$N$5:$U$375,5,FALSE) -> 25 | F64: =VLOOKUP($A64,$N$5:$U$375,6,FALSE) -> 23.38 | G64: =VLOOKUP($A64,$N$5:$U$375,7,FALSE) -> 22.94 | H64: =IF(B64>C64,"Long","Short") -> Long | N64: EUROB | O64: 4.498 | P64: 4.545 | Q64: 6 | R64: 5 | S64: 4.516 | T64: 4.32 | U64: ΕΥΡΩΒ | V64: C:\Data_4trader\Metoxes_ASE
A65: DION | B65: =VLOOKUP($A65,$N$5:$U$375,2,FALSE) -> #N/A | C65: =VLOOKUP($A65,$N$5:$U$375,3,FALSE) -> #N/A | D65: =VLOOKUP($A65,$N$5:$U$375,4,FALSE) -> #N/A | E65: =VLOOKUP($A65,$N$5:$U$375,5,FALSE) -> #N/A | F65: =VLOOKUP($A65,$N$5:$U$375,6,FALSE) -> #N/A | G65: =VLOOKUP($A65,$N$5:$U$375,7,FALSE) -> #N/A | H65: =IF(B65>C65,"Long","Short") -> #N/A | N65: EVR | O65: 1.328 | P65: 1.39 | Q65: N/A | R65: N/A | S65: N/A | T65: N/A | U65: EVR | V65: C:\Data_4trader\Metoxes_ASE
A66: DIXTH | B66: =VLOOKUP($A66,$N$5:$U$375,2,FALSE) -> #N/A | C66: =VLOOKUP($A66,$N$5:$U$375,3,FALSE) -> #N/A | D66: =VLOOKUP($A66,$N$5:$U$375,4,FALSE) -> #N/A | E66: =VLOOKUP($A66,$N$5:$U$375,5,FALSE) -> #N/A | F66: =VLOOKUP($A66,$N$5:$U$375,6,FALSE) -> #N/A | G66: =VLOOKUP($A66,$N$5:$U$375,7,FALSE) -> #N/A | H66: =IF(B66>C66,"Long","Short") -> #N/A | N66: EX | O66: 5.05 | P66: N/A | Q66: N/A | R66: N/A | S66: N/A | T66: N/A | U66: ΕΧ | V66: C:\Data_4trader\Metoxes_ASE
A67: DMK | B67: =VLOOKUP($A67,$N$5:$U$375,2,FALSE) -> #N/A | C67: =VLOOKUP($A67,$N$5:$U$375,3,FALSE) -> #N/A | D67: =VLOOKUP($A67,$N$5:$U$375,4,FALSE) -> #N/A | E67: =VLOOKUP($A67,$N$5:$U$375,5,FALSE) -> #N/A | F67: =VLOOKUP($A67,$N$5:$U$375,6,FALSE) -> #N/A | G67: =VLOOKUP($A67,$N$5:$U$375,7,FALSE) -> #N/A | H67: =IF(B67>C67,"Long","Short") -> #N/A | N67: EXAE | O67: 11 | P67: 10.42 | Q67: 6 | R67: 19 | S67: 11.2 | T67: 10.22 | U67: ΕΧΑΕ | V67: C:\Data_4trader\Metoxes_ASE
A68: DOL | B68: =VLOOKUP($A68,$N$5:$U$375,2,FALSE) -> #N/A | C68: =VLOOKUP($A68,$N$5:$U$375,3,FALSE) -> #N/A | D68: =VLOOKUP($A68,$N$5:$U$375,4,FALSE) -> #N/A | E68: =VLOOKUP($A68,$N$5:$U$375,5,FALSE) -> #N/A | F68: =VLOOKUP($A68,$N$5:$U$375,6,FALSE) -> #N/A | G68: =VLOOKUP($A68,$N$5:$U$375,7,FALSE) -> #N/A | H68: =IF(B68>C68,"Long","Short") -> #N/A | N68: EYAPS | O68: 4.685 | P68: 4.21 | Q68: 1 | R68: N/A | S68: 4.495 | T68: N/A | U68: ΕΥΑΠΣ | V68: C:\Data_4trader\Metoxes_ASE
A69: DOMIK | B69: =VLOOKUP($A69,$N$5:$U$375,2,FALSE) -> 2.39 | C69: =VLOOKUP($A69,$N$5:$U$375,3,FALSE) -> 2.78 | D69: =VLOOKUP($A69,$N$5:$U$375,4,FALSE) -> N/A | E69: =VLOOKUP($A69,$N$5:$U$375,5,FALSE) -> 19 | F69: =VLOOKUP($A69,$N$5:$U$375,6,FALSE) -> N/A | G69: =VLOOKUP($A69,$N$5:$U$375,7,FALSE) -> 2.56 | H69: =IF(B69>C69,"Long","Short") -> Short | N69: EYDAP | O69: 13.76 | P69: 13.42 | Q69: 12 | R69: 33 | S69: 13.28 | T69: 11.58 | U69: ΕΥΔΑΠ | V69: C:\Data_4trader\Metoxes_ASE
A70: DOYRO | B70: =VLOOKUP($A70,$N$5:$U$375,2,FALSE) -> 0.25 | C70: =VLOOKUP($A70,$N$5:$U$375,3,FALSE) -> N/A | D70: =VLOOKUP($A70,$N$5:$U$375,4,FALSE) -> N/A | E70: =VLOOKUP($A70,$N$5:$U$375,5,FALSE) -> N/A | F70: =VLOOKUP($A70,$N$5:$U$375,6,FALSE) -> N/A | G70: =VLOOKUP($A70,$N$5:$U$375,7,FALSE) -> N/A | H70: =IF(B70>C70,"Long","Short") -> Short | N70: FAIS | O70: 3.23 | P70: 3.3 | Q70: N/A | R70: N/A | S70: N/A | T70: N/A | U70: ΦΑΙΣ | V70: C:\Data_4trader\Metoxes_ASE
A71: DROME | B71: =VLOOKUP($A71,$N$5:$U$375,2,FALSE) -> 0.286 | C71: =VLOOKUP($A71,$N$5:$U$375,3,FALSE) -> 0.307 | D71: =VLOOKUP($A71,$N$5:$U$375,4,FALSE) -> 12 | E71: =VLOOKUP($A71,$N$5:$U$375,5,FALSE) -> 5 | F71: =VLOOKUP($A71,$N$5:$U$375,6,FALSE) -> 0.303 | G71: =VLOOKUP($A71,$N$5:$U$375,7,FALSE) -> 0.279 | H71: =IF(B71>C71,"Long","Short") -> Short | N71: FBMEZZ | O71: 0.0496 | P71: 0.0456 | Q71: 6 | R71: N/A | S71: 0.0498 | T71: N/A | U71: ΦΒΜΕΖΖ | V71: C:\Data_4trader\Metoxes_ASE
A72: DROYK | B72: =VLOOKUP($A72,$N$5:$U$375,2,FALSE) -> #N/A | C72: =VLOOKUP($A72,$N$5:$U$375,3,FALSE) -> #N/A | D72: =VLOOKUP($A72,$N$5:$U$375,4,FALSE) -> #N/A | E72: =VLOOKUP($A72,$N$5:$U$375,5,FALSE) -> #N/A | F72: =VLOOKUP($A72,$N$5:$U$375,6,FALSE) -> #N/A | G72: =VLOOKUP($A72,$N$5:$U$375,7,FALSE) -> #N/A | H72: =IF(B72>C72,"Long","Short") -> #N/A | N72: FLEXO | O72: 7.85 | P72: 8 | Q72: 56 | R72: 16 | S72: 8.3 | T72: 7.9 | U72: ΦΛΕΞΟ | V72: C:\Data_4trader\Metoxes_ASE
A73: EADAK20 | B73: =VLOOKUP($A73,$N$5:$U$375,2,FALSE) -> #N/A | C73: =VLOOKUP($A73,$N$5:$U$375,3,FALSE) -> #N/A | D73: =VLOOKUP($A73,$N$5:$U$375,4,FALSE) -> #N/A | E73: =VLOOKUP($A73,$N$5:$U$375,5,FALSE) -> #N/A | F73: =VLOOKUP($A73,$N$5:$U$375,6,FALSE) -> #N/A | G73: =VLOOKUP($A73,$N$5:$U$375,7,FALSE) -> #N/A | H73: =IF(B73>C73,"Long","Short") -> #N/A | N73: FOYNTL | O73: 1.05 | P73: 1.07 | Q73: N/A | R73: 29 | S73: N/A | T73: 1.04 | U73: ΦΟΥΝΤΛ | V73: C:\Data_4trader\Metoxes_ASE
A74: EADAKGD | B74: =VLOOKUP($A74,$N$5:$U$375,2,FALSE) -> #N/A | C74: =VLOOKUP($A74,$N$5:$U$375,3,FALSE) -> #N/A | D74: =VLOOKUP($A74,$N$5:$U$375,4,FALSE) -> #N/A | E74: =VLOOKUP($A74,$N$5:$U$375,5,FALSE) -> #N/A | F74: =VLOOKUP($A74,$N$5:$U$375,6,FALSE) -> #N/A | G74: =VLOOKUP($A74,$N$5:$U$375,7,FALSE) -> #N/A | H74: =IF(B74>C74,"Long","Short") -> #N/A | N74: FRIGO | O74: 0.392 | P74: 0.301 | Q74: 1 | R74: 36 | S74: 0.363 | T74: 0.345 | U74: ΦΡΙΓΟ | V74: C:\Data_4trader\Metoxes_ASE
A75: EBROF | B75: =VLOOKUP($A75,$N$5:$U$375,2,FALSE) -> 3.68 | C75: =VLOOKUP($A75,$N$5:$U$375,3,FALSE) -> 3.77 | D75: =VLOOKUP($A75,$N$5:$U$375,4,FALSE) -> N/A | E75: =VLOOKUP($A75,$N$5:$U$375,5,FALSE) -> 33 | F75: =VLOOKUP($A75,$N$5:$U$375,6,FALSE) -> N/A | G75: =VLOOKUP($A75,$N$5:$U$375,7,FALSE) -> 3.89 | H75: =IF(B75>C75,"Long","Short") -> Short | N75: FRLK | O75: 3.855 | P75: 4.04 | Q75: N/A | R75: N/A | S75: N/A | T75: N/A | U75: ΦΡΛΚ | V75: C:\Data_4trader\Metoxes_ASE
A76: EBZ | B76: =VLOOKUP($A76,$N$5:$U$375,2,FALSE) -> #N/A | C76: =VLOOKUP($A76,$N$5:$U$375,3,FALSE) -> #N/A | D76: =VLOOKUP($A76,$N$5:$U$375,4,FALSE) -> #N/A | E76: =VLOOKUP($A76,$N$5:$U$375,5,FALSE) -> #N/A | F76: =VLOOKUP($A76,$N$5:$U$375,6,FALSE) -> #N/A | G76: =VLOOKUP($A76,$N$5:$U$375,7,FALSE) -> #N/A | H76: =IF(B76>C76,"Long","Short") -> #N/A | N76: FTSE ASE | O76: 6702.29 | P76: 6772.5698 | Q76: N/A | R76: 15 | S76: N/A | T76: 6577.4902 | U76: FTSE | V76: C:\Data_4trader\Metoxes_ASE
A77: EDAKET30 | B77: =VLOOKUP($A77,$N$5:$U$375,2,FALSE) -> #N/A | C77: =VLOOKUP($A77,$N$5:$U$375,3,FALSE) -> #N/A | D77: =VLOOKUP($A77,$N$5:$U$375,4,FALSE) -> #N/A | E77: =VLOOKUP($A77,$N$5:$U$375,5,FALSE) -> #N/A | F77: =VLOOKUP($A77,$N$5:$U$375,6,FALSE) -> #N/A | G77: =VLOOKUP($A77,$N$5:$U$375,7,FALSE) -> #N/A | H77: =IF(B77>C77,"Long","Short") -> #N/A | N77: FTSE_ASE 20 | O77: 6702.29 | P77: 6772.5698 | Q77: N/A | R77: 15 | S77: N/A | T77: 6577.4902 | U77: FTSE | V77: C:\Data_4trader\Metoxes_ASE
A78: EDRA | B78: =VLOOKUP($A78,$N$5:$U$375,2,FALSE) -> #N/A | C78: =VLOOKUP($A78,$N$5:$U$375,3,FALSE) -> #N/A | D78: =VLOOKUP($A78,$N$5:$U$375,4,FALSE) -> #N/A | E78: =VLOOKUP($A78,$N$5:$U$375,5,FALSE) -> #N/A | F78: =VLOOKUP($A78,$N$5:$U$375,6,FALSE) -> #N/A | G78: =VLOOKUP($A78,$N$5:$U$375,7,FALSE) -> #N/A | H78: =IF(B78>C78,"Long","Short") -> #N/A | N78: FTSE_BM | O78: 10313.5 | P78: 9845.1201 | Q78: 0 | R78: N/A | S78: 10313.5 | T78: N/A | U78: FTSE_BM | V78: C:\Data_4trader\Metoxes_ASE
A79: EDRIP | B79: =VLOOKUP($A79,$N$5:$U$375,2,FALSE) -> #N/A | C79: =VLOOKUP($A79,$N$5:$U$375,3,FALSE) -> #N/A | D79: =VLOOKUP($A79,$N$5:$U$375,4,FALSE) -> #N/A | E79: =VLOOKUP($A79,$N$5:$U$375,5,FALSE) -> #N/A | F79: =VLOOKUP($A79,$N$5:$U$375,6,FALSE) -> #N/A | G79: =VLOOKUP($A79,$N$5:$U$375,7,FALSE) -> #N/A | H79: =IF(B79>C79,"Long","Short") -> #N/A | N79: FTSE_CD | O79: 4781.3999 | P79: 4587.4399 | Q79: 13 | R79: N/A | S79: 4754.1099 | T79: N/A | U79: FTSE_CD | V79: C:\Data_4trader\Metoxes_ASE
A80: EEE | B80: =VLOOKUP($A80,$N$5:$U$375,2,FALSE) -> 56.1 | C80: =VLOOKUP($A80,$N$5:$U$375,3,FALSE) -> 49.65 | D80: =VLOOKUP($A80,$N$5:$U$375,4,FALSE) -> 10 | E80: =VLOOKUP($A80,$N$5:$U$375,5,FALSE) -> 29 | F80: =VLOOKUP($A80,$N$5:$U$375,6,FALSE) -> 52.6 | G80: =VLOOKUP($A80,$N$5:$U$375,7,FALSE) -> 50.6 | H80: =IF(B80>C80,"Long","Short") -> Long | N80: FTSE_CS | O80: 10195.16 | P80: 9440.71 | Q80: 2 | R80: N/A | S80: 10152.1 | T80: N/A | U80: FTSE_CS | V80: C:\Data_4trader\Metoxes_ASE
A81: EEEK | B81: =VLOOKUP($A81,$N$5:$U$375,2,FALSE) -> #N/A | C81: =VLOOKUP($A81,$N$5:$U$375,3,FALSE) -> #N/A | D81: =VLOOKUP($A81,$N$5:$U$375,4,FALSE) -> #N/A | E81: =VLOOKUP($A81,$N$5:$U$375,5,FALSE) -> #N/A | F81: =VLOOKUP($A81,$N$5:$U$375,6,FALSE) -> #N/A | G81: =VLOOKUP($A81,$N$5:$U$375,7,FALSE) -> #N/A | H81: =IF(B81>C81,"Long","Short") -> #N/A | N81: FTSE_EU | O81: 9620.54 | P81: 9379.46 | Q81: N/A | R81: N/A | S81: N/A | T81: N/A | U81: FTSE_EU | V81: C:\Data_4trader\Metoxes_ASE
A82: EFTZI | B82: =VLOOKUP($A82,$N$5:$U$375,2,FALSE) -> #N/A | C82: =VLOOKUP($A82,$N$5:$U$375,3,FALSE) -> #N/A | D82: =VLOOKUP($A82,$N$5:$U$375,4,FALSE) -> #N/A | E82: =VLOOKUP($A82,$N$5:$U$375,5,FALSE) -> #N/A | F82: =VLOOKUP($A82,$N$5:$U$375,6,FALSE) -> #N/A | G82: =VLOOKUP($A82,$N$5:$U$375,7,FALSE) -> #N/A | H82: =IF(B82>C82,"Long","Short") -> #N/A | N82: FTSE_FS | O82: 14140.57 | P82: 14515.78 | Q82: 6 | R82: 4 | S82: 14507.1 | T82: 13250.88 | U82: FTSE_FS | V82: C:\Data_4trader\Metoxes_ASE
A83: EKTER | B83: =VLOOKUP($A83,$N$5:$U$375,2,FALSE) -> 4.65 | C83: =VLOOKUP($A83,$N$5:$U$375,3,FALSE) -> 4.73 | D83: =VLOOKUP($A83,$N$5:$U$375,4,FALSE) -> 34 | E83: =VLOOKUP($A83,$N$5:$U$375,5,FALSE) -> 31 | F83: =VLOOKUP($A83,$N$5:$U$375,6,FALSE) -> 5.2 | G83: =VLOOKUP($A83,$N$5:$U$375,7,FALSE) -> 4.82 | H83: =IF(B83>C83,"Long","Short") -> Short | N83: FTSE_HC | O83: 6351.1201 | P83: 6115.8398 | Q83: 49 | R83: N/A | S83: 5490.9502 | T83: N/A | U83: FTSE_HC | V83: C:\Data_4trader\Metoxes_ASE
A84: ELAIN | B84: =VLOOKUP($A84,$N$5:$U$375,2,FALSE) -> #N/A | C84: =VLOOKUP($A84,$N$5:$U$375,3,FALSE) -> #N/A | D84: =VLOOKUP($A84,$N$5:$U$375,4,FALSE) -> #N/A | E84: =VLOOKUP($A84,$N$5:$U$375,5,FALSE) -> #N/A | F84: =VLOOKUP($A84,$N$5:$U$375,6,FALSE) -> #N/A | G84: =VLOOKUP($A84,$N$5:$U$375,7,FALSE) -> #N/A | H84: =IF(B84>C84,"Long","Short") -> #N/A | N84: FTSE_IN | O84: 12074.06 | P84: 12202.55 | Q84: 24 | R84: 15 | S84: 12645.06 | T84: 11963.29 | U84: FTSE_IN | V84: C:\Data_4trader\Metoxes_ASE
A85: ELBA | B85: =VLOOKUP($A85,$N$5:$U$375,2,FALSE) -> #N/A | C85: =VLOOKUP($A85,$N$5:$U$375,3,FALSE) -> #N/A | D85: =VLOOKUP($A85,$N$5:$U$375,4,FALSE) -> #N/A | E85: =VLOOKUP($A85,$N$5:$U$375,5,FALSE) -> #N/A | F85: =VLOOKUP($A85,$N$5:$U$375,6,FALSE) -> #N/A | G85: =VLOOKUP($A85,$N$5:$U$375,7,FALSE) -> #N/A | H85: =IF(B85>C85,"Long","Short") -> #N/A | N85: FTSE_RE | O85: 5282.1099 | P85: 5370.7598 | Q85: N/A | R85: 30 | S85: N/A | T85: 5415.4302 | U85: FTSE_RE | V85: C:\Data_4trader\Metoxes_ASE
A86: ELBE | B86: =VLOOKUP($A86,$N$5:$U$375,2,FALSE) -> 7.2 | C86: =VLOOKUP($A86,$N$5:$U$375,3,FALSE) -> 7.75 | D86: =VLOOKUP($A86,$N$5:$U$375,4,FALSE) -> N/A | E86: =VLOOKUP($A86,$N$5:$U$375,5,FALSE) -> 10 | F86: =VLOOKUP($A86,$N$5:$U$375,6,FALSE) -> N/A | G86: =VLOOKUP($A86,$N$5:$U$375,7,FALSE) -> 7.55 | H86: =IF(B86>C86,"Long","Short") -> Short | N86: FTSE_TT | O86: 7395.4702 | P86: 7619.2002 | Q86: 27 | R86: 15 | S86: 7601.3398 | T86: 7381.46 | U86: FTSE_TT | V86: C:\Data_4trader\Metoxes_ASE
A87: ELBIO | B87: =VLOOKUP($A87,$N$5:$U$375,2,FALSE) -> #N/A | C87: =VLOOKUP($A87,$N$5:$U$375,3,FALSE) -> #N/A | D87: =VLOOKUP($A87,$N$5:$U$375,4,FALSE) -> #N/A | E87: =VLOOKUP($A87,$N$5:$U$375,5,FALSE) -> #N/A | F87: =VLOOKUP($A87,$N$5:$U$375,6,FALSE) -> #N/A | G87: =VLOOKUP($A87,$N$5:$U$375,7,FALSE) -> #N/A | H87: =IF(B87>C87,"Long","Short") -> #N/A | N87: FTSEA | O87: 1569.46 | P87: 1586.02 | Q87: N/A | R87: 15 | S87: N/A | T87: 1538.59 | U87: FTSEA | V87: C:\Data_4trader\Metoxes_ASE
A88: ELFK | B88: =VLOOKUP($A88,$N$5:$U$375,2,FALSE) -> #N/A | C88: =VLOOKUP($A88,$N$5:$U$375,3,FALSE) -> #N/A | D88: =VLOOKUP($A88,$N$5:$U$375,4,FALSE) -> #N/A | E88: =VLOOKUP($A88,$N$5:$U$375,5,FALSE) -> #N/A | F88: =VLOOKUP($A88,$N$5:$U$375,6,FALSE) -> #N/A | G88: =VLOOKUP($A88,$N$5:$U$375,7,FALSE) -> #N/A | H88: =IF(B88>C88,"Long","Short") -> #N/A | N88: FTSEA_ASE 140 | O88: 1569.46 | P88: 1586.02 | Q88: N/A | R88: 15 | S88: N/A | T88: 1538.59 | U88: FTSEA | V88: C:\Data_4trader\Metoxes_ASE
A89: ELGEK | B89: =VLOOKUP($A89,$N$5:$U$375,2,FALSE) -> #N/A | C89: =VLOOKUP($A89,$N$5:$U$375,3,FALSE) -> #N/A | D89: =VLOOKUP($A89,$N$5:$U$375,4,FALSE) -> #N/A | E89: =VLOOKUP($A89,$N$5:$U$375,5,FALSE) -> #N/A | F89: =VLOOKUP($A89,$N$5:$U$375,6,FALSE) -> #N/A | G89: =VLOOKUP($A89,$N$5:$U$375,7,FALSE) -> #N/A | H89: =IF(B89>C89,"Long","Short") -> #N/A | N89: FTSED | O89: 5648.0801 | P89: 5558.7202 | Q89: N/A | R89: N/A | S89: N/A | T89: N/A | U89: FTSED | V89: C:\Data_4trader\Metoxes_ASE
A90: ELIN | B90: =VLOOKUP($A90,$N$5:$U$375,2,FALSE) -> 1.9 | C90: =VLOOKUP($A90,$N$5:$U$375,3,FALSE) -> 1.93 | D90: =VLOOKUP($A90,$N$5:$U$375,4,FALSE) -> N/A | E90: =VLOOKUP($A90,$N$5:$U$375,5,FALSE) -> N/A | F90: =VLOOKUP($A90,$N$5:$U$375,6,FALSE) -> N/A | G90: =VLOOKUP($A90,$N$5:$U$375,7,FALSE) -> N/A | H90: =IF(B90>C90,"Long","Short") -> Short | N90: FTSEDTR | O90: 6991.6401 | P90: N/A | Q90: N/A | R90: N/A | S90: N/A | T90: N/A | U90: FTSEDTR | V90: C:\Data_4trader\Metoxes_ASE
A91: ELIXTH | B91: =VLOOKUP($A91,$N$5:$U$375,2,FALSE) -> #N/A | C91: =VLOOKUP($A91,$N$5:$U$375,3,FALSE) -> #N/A | D91: =VLOOKUP($A91,$N$5:$U$375,4,FALSE) -> #N/A | E91: =VLOOKUP($A91,$N$5:$U$375,5,FALSE) -> #N/A | F91: =VLOOKUP($A91,$N$5:$U$375,6,FALSE) -> #N/A | G91: =VLOOKUP($A91,$N$5:$U$375,7,FALSE) -> #N/A | H91: =IF(B91>C91,"Long","Short") -> #N/A | N91: FTSEM | O91: 3082.1499 | P91: 2984.52 | Q91: 2 | R91: N/A | S91: 3068.8899 | T91: N/A | U91: FTSEM | V91: C:\Data_4trader\Metoxes_ASE
A92: ELKA | B92: =VLOOKUP($A92,$N$5:$U$375,2,FALSE) -> #N/A | C92: =VLOOKUP($A92,$N$5:$U$375,3,FALSE) -> #N/A | D92: =VLOOKUP($A92,$N$5:$U$375,4,FALSE) -> #N/A | E92: =VLOOKUP($A92,$N$5:$U$375,5,FALSE) -> #N/A | F92: =VLOOKUP($A92,$N$5:$U$375,6,FALSE) -> #N/A | G92: =VLOOKUP($A92,$N$5:$U$375,7,FALSE) -> #N/A | H92: =IF(B92>C92,"Long","Short") -> #N/A | N92: FTSEM_ASE 40 | O92: 3082.1499 | P92: 2984.52 | Q92: 2 | R92: N/A | S92: 3068.8899 | T92: N/A | U92: FTSEM | V92: C:\Data_4trader\Metoxes_ASE
A93: ELL | B93: =VLOOKUP($A93,$N$5:$U$375,2,FALSE) -> 14.85 | C93: =VLOOKUP($A93,$N$5:$U$375,3,FALSE) -> N/A | D93: =VLOOKUP($A93,$N$5:$U$375,4,FALSE) -> N/A | E93: =VLOOKUP($A93,$N$5:$U$375,5,FALSE) -> N/A | F93: =VLOOKUP($A93,$N$5:$U$375,6,FALSE) -> N/A | G93: =VLOOKUP($A93,$N$5:$U$375,7,FALSE) -> N/A | H93: =IF(B93>C93,"Long","Short") -> Short | N93: FTSETR | O93: 11546.86 | P93: N/A | Q93: N/A | R93: N/A | S93: N/A | T93: N/A | U93: FTSETR | V93: C:\Data_4trader\Metoxes_ASE
A94: ELLAKTOR | B94: =VLOOKUP($A94,$N$5:$U$375,2,FALSE) -> 1.23 | C94: =VLOOKUP($A94,$N$5:$U$375,3,FALSE) -> 1.278 | D94: =VLOOKUP($A94,$N$5:$U$375,4,FALSE) -> 31 | E94: =VLOOKUP($A94,$N$5:$U$375,5,FALSE) -> 15 | F94: =VLOOKUP($A94,$N$5:$U$375,6,FALSE) -> 1.308 | G94: =VLOOKUP($A94,$N$5:$U$375,7,FALSE) -> 1.25 | H94: =IF(B94>C94,"Long","Short") -> Short | N94: GD_GENIKOS DEIKTHS | O94: 2619.0801 | P94: 2643.6201 | Q94: N/A | R94: 15 | S94: N/A | T94: 2568.05 | U94: ΓΔ | V94: C:\Data_4trader\Metoxes_ASE
A95: ELMPI | B95: =VLOOKUP($A95,$N$5:$U$375,2,FALSE) -> #N/A | C95: =VLOOKUP($A95,$N$5:$U$375,3,FALSE) -> #N/A | D95: =VLOOKUP($A95,$N$5:$U$375,4,FALSE) -> #N/A | E95: =VLOOKUP($A95,$N$5:$U$375,5,FALSE) -> #N/A | F95: =VLOOKUP($A95,$N$5:$U$375,6,FALSE) -> #N/A | G95: =VLOOKUP($A95,$N$5:$U$375,7,FALSE) -> #N/A | H95: =IF(B95>C95,"Long","Short") -> #N/A | N95: GEBKA | O95: 1.955 | P95: 2.3 | Q95: N/A | R95: N/A | S95: N/A | T95: N/A | U95: ΓΕΒΚΑ | V95: C:\Data_4trader\Metoxes_ASE
A96: ELPE | B96: =VLOOKUP($A96,$N$5:$U$375,2,FALSE) -> 18.1 | C96: =VLOOKUP($A96,$N$5:$U$375,3,FALSE) -> 19.2 | D96: =VLOOKUP($A96,$N$5:$U$375,4,FALSE) -> 21 | E96: =VLOOKUP($A96,$N$5:$U$375,5,FALSE) -> 1 | F96: =VLOOKUP($A96,$N$5:$U$375,6,FALSE) -> 18.63 | G96: =VLOOKUP($A96,$N$5:$U$375,7,FALSE) -> 17.77 | H96: =IF(B96>C96,"Long","Short") -> Short | N96: GEKTERNA | O96: 39.6 | P96: 40.74 | Q96: 46 | R96: 33 | S96: 46.8 | T96: 43.5 | U96: ΓΕΚΤΕΡΝΑ | V96: C:\Data_4trader\Metoxes_ASE
A97: ELSTR | B97: =VLOOKUP($A97,$N$5:$U$375,2,FALSE) -> 2.49 | C97: =VLOOKUP($A97,$N$5:$U$375,3,FALSE) -> 2.43 | D97: =VLOOKUP($A97,$N$5:$U$375,4,FALSE) -> 22 | E97: =VLOOKUP($A97,$N$5:$U$375,5,FALSE) -> N/A | F97: =VLOOKUP($A97,$N$5:$U$375,6,FALSE) -> 2.69 | G97: =VLOOKUP($A97,$N$5:$U$375,7,FALSE) -> N/A | H97: =IF(B97>C97,"Long","Short") -> Long | N97: GKMEZ | O97: 0.265 | P97: 0.251 | Q97: 23 | R97: N/A | S97: 0.29 | T97: N/A | U97: ΓΚΜΕΖΖ | V97: C:\Data_4trader\Metoxes_ASE
A98: ELTK | B98: =VLOOKUP($A98,$N$5:$U$375,2,FALSE) -> #N/A | C98: =VLOOKUP($A98,$N$5:$U$375,3,FALSE) -> #N/A | D98: =VLOOKUP($A98,$N$5:$U$375,4,FALSE) -> #N/A | E98: =VLOOKUP($A98,$N$5:$U$375,5,FALSE) -> #N/A | F98: =VLOOKUP($A98,$N$5:$U$375,6,FALSE) -> #N/A | G98: =VLOOKUP($A98,$N$5:$U$375,7,FALSE) -> #N/A | H98: =IF(B98>C98,"Long","Short") -> #N/A | N98: GKMEZZ | O98: 0.265 | P98: 0.251 | Q98: 23 | R98: N/A | S98: 0.29 | T98: N/A | U98: ΓΚΜΕΖΖ | V98: C:\Data_4trader\Metoxes_ASE
A99: ELTON | B99: =VLOOKUP($A99,$N$5:$U$375,2,FALSE) -> 1.735 | C99: =VLOOKUP($A99,$N$5:$U$375,3,FALSE) -> 1.765 | D99: =VLOOKUP($A99,$N$5:$U$375,4,FALSE) -> 23 | E99: =VLOOKUP($A99,$N$5:$U$375,5,FALSE) -> 15 | F99: =VLOOKUP($A99,$N$5:$U$375,6,FALSE) -> 1.825 | G99: =VLOOKUP($A99,$N$5:$U$375,7,FALSE) -> 1.69 | H99: =IF(B99>C99,"Long","Short") -> Short | N99: HELMSI | O99: 3560.3899 | P99: 3473.3101 | Q99: 2 | R99: 15 | S99: 3582.1499 | T99: 3463.05 | U99: HELMSI | V99: C:\Data_4trader\Metoxes_ASE
A100: ELYF | B100: =VLOOKUP($A100,$N$5:$U$375,2,FALSE) -> #N/A | C100: =VLOOKUP($A100,$N$5:$U$375,3,FALSE) -> #N/A | D100: =VLOOKUP($A100,$N$5:$U$375,4,FALSE) -> #N/A | E100: =VLOOKUP($A100,$N$5:$U$375,5,FALSE) -> #N/A | F100: =VLOOKUP($A100,$N$5:$U$375,6,FALSE) -> #N/A | G100: =VLOOKUP($A100,$N$5:$U$375,7,FALSE) -> #N/A | H100: =IF(B100>C100,"Long","Short") -> #N/A | N100: IATR | O100: 1.38 | P100: 1.47 | Q100: 9 | R100: 4 | S100: 1.44 | T100: 1.4 | U100: ΙΑΤΡ | V100: C:\Data_4trader\Metoxes_ASE
A101: EMDKO | B101: =VLOOKUP($A101,$N$5:$U$375,2,FALSE) -> #N/A | C101: =VLOOKUP($A101,$N$5:$U$375,3,FALSE) -> #N/A | D101: =VLOOKUP($A101,$N$5:$U$375,4,FALSE) -> #N/A | E101: =VLOOKUP($A101,$N$5:$U$375,5,FALSE) -> #N/A | F101: =VLOOKUP($A101,$N$5:$U$375,6,FALSE) -> #N/A | G101: =VLOOKUP($A101,$N$5:$U$375,7,FALSE) -> #N/A | H101: =IF(B101>C101,"Long","Short") -> #N/A | N101: IKTIN | O101: 0.27 | P101: 0.279 | Q101: N/A | R101: 33 | S101: N/A | T101: 0.315 | U101: ΙΚΤΙΝ | V101: C:\Data_4trader\Metoxes_ASE
...
